BEGIN:VCALENDAR
VERSION:2.0
PRODID:-//85.13.134.164//NONSGML kigkonsult.se iCalcreator 2.18//
X-WR-TIMEZONE:Europe/Berlin
BEGIN:VTIMEZONE
TZID:Europe/Berlin
X-LIC-LOCATION:Europe/Berlin
BEGIN:STANDARD
DTSTART:20181028T030000
TZOFFSETFROM:+0200
TZOFFSETTO:+0100
RDATE:20191027T030000
TZNAME:CET
END:STANDARD
BEGIN:DAYLIGHT
DTSTART:20190331T020000
TZOFFSETFROM:+0100
TZOFFSETTO:+0200
RDATE:20200329T020000
TZNAME:CEST
END:DAYLIGHT
END:VTIMEZONE
BEGIN:VEVENT
UID:20260425T215247CEST-7307kv1evk@85.13.134.164
DTSTAMP:20260425T195247Z
DESCRIPTION:
DTSTART;TZID=Europe/Berlin:20180819T150000
DTEND;TZID=Europe/Berlin:20180819T164500
LOCATION:
SUMMARY:BK-Gr 5 N/F 18-19: SV Steigerwald-Münchsteinach 2 - SV Burggrafenho
 f II
END:VEVENT
BEGIN:VEVENT
UID:20260425T215247CEST-7309ZpC3wX@85.13.134.164
DTSTAMP:20260425T195247Z
DESCRIPTION:
DTSTART;TZID=Europe/Berlin:20180826T130000
DTEND;TZID=Europe/Berlin:20180826T144500
LOCATION:
SUMMARY:BK-Gr 5 N/F 18-19: SV Burggrafenhof II - TSV Wilhermsdorf II
END:VEVENT
BEGIN:VEVENT
UID:20260425T215247CEST-7311WGksSE@85.13.134.164
DTSTAMP:20260425T195247Z
DESCRIPTION:
DTSTART;TZID=Europe/Berlin:20180831T180000
DTEND;TZID=Europe/Berlin:20180831T194500
LOCATION:
SUMMARY:BK-Gr 5 N/F 18-19: SG Franken Neustadt/​TSV Neustadt/​Aisch I - SV 
 Burggrafenhof II
END:VEVENT
BEGIN:VEVENT
UID:20260425T215247CEST-7313JTTgLE@85.13.134.164
DTSTAMP:20260425T195247Z
DESCRIPTION:
DTSTART;TZID=Europe/Berlin:20180908T140000
DTEND;TZID=Europe/Berlin:20180908T154500
LOCATION:
SUMMARY:BK-Gr 5 N/F 18-19: SV Burggrafenhof II - SF Laubendorf II
END:VEVENT
BEGIN:VEVENT
UID:20260425T215247CEST-7314A0LIem@85.13.134.164
DTSTAMP:20260425T195247Z
DESCRIPTION:
DTSTART;TZID=Europe/Berlin:20180916T130000
DTEND;TZID=Europe/Berlin:20180916T144500
LOCATION:
SUMMARY:BK-Gr 5 N/F 18-19: DTV Diespeck II - SV Burggrafenhof II
END:VEVENT
BEGIN:VEVENT
UID:20260425T215247CEST-7316hhTHxn@85.13.134.164
DTSTAMP:20260425T195247Z
DESCRIPTION:
DTSTART;TZID=Europe/Berlin:20180923T130000
DTEND;TZID=Europe/Berlin:20180923T144500
LOCATION:
SUMMARY:BK-Gr 5 N/F 18-19: SV Burggrafenhof II - SpVgg Thierberg
END:VEVENT
BEGIN:VEVENT
UID:20260425T215247CEST-7318m9Tn5X@85.13.134.164
DTSTAMP:20260425T195247Z
DESCRIPTION:
DTSTART;TZID=Europe/Berlin:20180930T130000
DTEND;TZID=Europe/Berlin:20180930T144500
LOCATION:
SUMMARY:BK-Gr 5 N/F 18-19: SV Burggrafenhof II - SV Losaurach II
END:VEVENT
BEGIN:VEVENT
UID:20260425T215247CEST-7320A8km6d@85.13.134.164
DTSTAMP:20260425T195247Z
DESCRIPTION:Pappelstadion
DTSTART;TZID=Europe/Berlin:20181007T130000
DTEND;TZID=Europe/Berlin:20181007T144500
LOCATION:\,  Lenkersheim
SUMMARY:BK-Gr 5 N/F 18-19: SG Lenkersheim / Bad Windsheim II - SV Burggrafe
 nhof II
END:VEVENT
BEGIN:VEVENT
UID:20260425T215247CEST-7322dx6UAH@85.13.134.164
DTSTAMP:20260425T195247Z
DESCRIPTION:
DTSTART;TZID=Europe/Berlin:20181014T130000
DTEND;TZID=Europe/Berlin:20181014T144500
LOCATION:
SUMMARY:BK-Gr 5 N/F 18-19: SV Burggrafenhof II - TSV Langenzenn II
END:VEVENT
BEGIN:VEVENT
UID:20260425T215247CEST-7324ju1ovo@85.13.134.164
DTSTAMP:20260425T195247Z
DESCRIPTION:
DTSTART;TZID=Europe/Berlin:20181021T130000
DTEND;TZID=Europe/Berlin:20181021T144500
LOCATION:
SUMMARY:BK-Gr 5 N/F 18-19: SV Neuhof/Zenn II - SV Burggrafenhof II
END:VEVENT
BEGIN:VEVENT
UID:20260425T215247CEST-7325RHfRPN@85.13.134.164
DTSTAMP:20260425T195247Z
DESCRIPTION:
DTSTART;TZID=Europe/Berlin:20181028T130000
DTEND;TZID=Europe/Berlin:20181028T144500
LOCATION:
SUMMARY:BK-Gr 5 N/F 18-19: SV Burggrafenhof II -  	SG Brunn/​Wilhelmsdorf I 
END:VEVENT
BEGIN:VEVENT
UID:20260425T215247CEST-7327CuPVlC@85.13.134.164
DTSTAMP:20260425T195247Z
DESCRIPTION:
DTSTART;TZID=Europe/Berlin:20181104T123000
DTEND;TZID=Europe/Berlin:20181104T141500
LOCATION:
SUMMARY:BK-Gr 5 N/F 18-19: FC Dachsbach-Birnbaum II - SV Burggrafenhof II
END:VEVENT
BEGIN:VEVENT
UID:20260425T215247CEST-7329rReZgK@85.13.134.164
DTSTAMP:20260425T195247Z
DESCRIPTION:
DTSTART;TZID=Europe/Berlin:20181111T123000
DTEND;TZID=Europe/Berlin:20181111T141500
LOCATION:
SUMMARY:BK-Gr 5 N/F 18-19: SV Burggrafenhof II - SG FC Schauerheim II /​SC 
 Dietersheim II
END:VEVENT
BEGIN:VEVENT
UID:20260425T215247CEST-7331vH7fcH@85.13.134.164
DTSTAMP:20260425T195247Z
DESCRIPTION:
DTSTART;TZID=Europe/Berlin:20181118T120000
DTEND;TZID=Europe/Berlin:20181118T134500
LOCATION:
SUMMARY:BK-Gr 5 N/F 18-19: SV Burggrafenhof II - SV Steigerwald-Münchsteina
 ch 2
END:VEVENT
BEGIN:VEVENT
UID:20260425T215247CEST-73335rAT7O@85.13.134.164
DTSTAMP:20260425T195247Z
DESCRIPTION:
DTSTART;TZID=Europe/Berlin:20190317T130000
DTEND;TZID=Europe/Berlin:20190317T144500
LOCATION:
SUMMARY:BK-Gr 5 N/F 18-19: SV Burggrafenhof II - TSV Wilhermsdorf II
END:VEVENT
BEGIN:VEVENT
UID:20260425T215247CEST-7334wxXpz8@85.13.134.164
DTSTAMP:20260425T195247Z
DESCRIPTION:
DTSTART;TZID=Europe/Berlin:20190324T130000
DTEND;TZID=Europe/Berlin:20190324T144500
LOCATION:
SUMMARY:BK-Gr 5 N/F 18-19: SV Burggrafenhof II - SG Franken Neustadt/​TSV N
 eustadt/​Aisch I
END:VEVENT
BEGIN:VEVENT
UID:20260425T215247CEST-73368BzjNc@85.13.134.164
DTSTAMP:20260425T195247Z
DESCRIPTION:
DTSTART;TZID=Europe/Berlin:20190331T130000
DTEND;TZID=Europe/Berlin:20190331T144500
LOCATION:
SUMMARY:BK-Gr 5 N/F 18-19: SF Laubendorf II - SV Burggrafenhof II
END:VEVENT
BEGIN:VEVENT
UID:20260425T215247CEST-7338Fz0P24@85.13.134.164
DTSTAMP:20260425T195247Z
DESCRIPTION:
DTSTART;TZID=Europe/Berlin:20190408T130000
DTEND;TZID=Europe/Berlin:20190408T144500
LOCATION:
SUMMARY:BK-Gr 5 N/F 18-19: SV Burggrafenhof II - DTV Diespeck II
END:VEVENT
BEGIN:VEVENT
UID:20260425T215247CEST-7340jGgLUS@85.13.134.164
DTSTAMP:20260425T195247Z
DESCRIPTION:
DTSTART;TZID=Europe/Berlin:20190414T150000
DTEND;TZID=Europe/Berlin:20190414T164500
LOCATION:
SUMMARY:BK-Gr 5 N/F 18-19: SpVgg Thierberg - SV Burggrafenhof II
END:VEVENT
BEGIN:VEVENT
UID:20260425T215247CEST-7342pNNim3@85.13.134.164
DTSTAMP:20260425T195247Z
DESCRIPTION:
DTSTART;TZID=Europe/Berlin:20190502T183000
DTEND;TZID=Europe/Berlin:20190502T201500
LOCATION:
SUMMARY:BK-Gr 5 N/F 18-19: SV Losaurach II - SV Burggrafenhof II
END:VEVENT
BEGIN:VEVENT
UID:20260425T215247CEST-7344ZsvmgG@85.13.134.164
DTSTAMP:20260425T195247Z
DESCRIPTION:
DTSTART;TZID=Europe/Berlin:20190505T130000
DTEND;TZID=Europe/Berlin:20190505T144500
LOCATION:
SUMMARY:BK-Gr 5 N/F 18-19: SV Burggrafenhof II - SG Lenkersheim / Bad Winds
 heim II
END:VEVENT
BEGIN:VEVENT
UID:20260425T215247CEST-7345JomJ5F@85.13.134.164
DTSTAMP:20260425T195247Z
DESCRIPTION:
DTSTART;TZID=Europe/Berlin:20190512T130000
DTEND;TZID=Europe/Berlin:20190512T144500
LOCATION:
SUMMARY:BK-Gr 5 N/F 18-19: TSV Langenzenn II - SV Burggrafenhof II
END:VEVENT
BEGIN:VEVENT
UID:20260425T215247CEST-7347GvEAjC@85.13.134.164
DTSTAMP:20260425T195247Z
DESCRIPTION:
DTSTART;TZID=Europe/Berlin:20190519T130000
DTEND;TZID=Europe/Berlin:20190519T144500
LOCATION:
SUMMARY:BK-Gr 5 N/F 18-19: SV Burggrafenhof II - SV Neuhof/Zenn II
END:VEVENT
BEGIN:VEVENT
UID:20260425T215247CEST-7349LkJtHK@85.13.134.164
DTSTAMP:20260425T195247Z
DESCRIPTION:
DTSTART;TZID=Europe/Berlin:20190526T130000
DTEND;TZID=Europe/Berlin:20190526T144500
LOCATION:
SUMMARY:BK-Gr 5 N/F 18-19:  	SG Brunn/​Wilhelmsdorf I  - SV Burggrafenhof II
END:VEVENT
BEGIN:VEVENT
UID:20260425T215247CEST-7351VBh14M@85.13.134.164
DTSTAMP:20260425T195247Z
DESCRIPTION:
DTSTART;TZID=Europe/Berlin:20190602T130000
DTEND;TZID=Europe/Berlin:20190602T144500
LOCATION:
SUMMARY:BK-Gr 5 N/F 18-19: SV Burggrafenhof II - FC Dachsbach-Birnbaum II
END:VEVENT
BEGIN:VEVENT
UID:20260425T215247CEST-7353Cebi9e@85.13.134.164
DTSTAMP:20260425T195247Z
DESCRIPTION:
DTSTART;TZID=Europe/Berlin:20190608T140000
DTEND;TZID=Europe/Berlin:20190608T154500
LOCATION:
SUMMARY:BK-Gr 5 N/F 18-19: SG FC Schauerheim II /​SC Dietersheim II - SV Bu
 rggrafenhof II
END:VEVENT
END:VCALENDAR
