BEGIN:VCALENDAR
VERSION:2.0
PRODID:-//85.13.134.164//NONSGML kigkonsult.se iCalcreator 2.18//
X-WR-TIMEZONE:Europe/Berlin
BEGIN:VTIMEZONE
TZID:Europe/Berlin
X-LIC-LOCATION:Europe/Berlin
BEGIN:STANDARD
DTSTART:20151025T030000
TZOFFSETFROM:+0200
TZOFFSETTO:+0100
RDATE:20161030T030000
TZNAME:CET
END:STANDARD
BEGIN:DAYLIGHT
DTSTART:20160327T020000
TZOFFSETFROM:+0100
TZOFFSETTO:+0200
RDATE:20170326T020000
TZNAME:CEST
END:DAYLIGHT
END:VTIMEZONE
BEGIN:VEVENT
UID:20260425T212315CEST-3929oOHapI@85.13.134.164
DTSTAMP:20260425T192315Z
DESCRIPTION:
DTSTART;TZID=Europe/Berlin:20150812T184500
DTEND;TZID=Europe/Berlin:20150812T203000
LOCATION:
SUMMARY:BK-Gr 05 N/F 15/16: SC Trautskirchen II - SV Losaurach II
END:VEVENT
BEGIN:VEVENT
UID:20260425T212315CEST-39317VJtCm@85.13.134.164
DTSTAMP:20260425T192315Z
DESCRIPTION:
DTSTART;TZID=Europe/Berlin:20150823T130000
DTEND;TZID=Europe/Berlin:20150823T144500
LOCATION:
SUMMARY:BK-Gr 05 N/F 15/16: SC Trautskirchen II - SC Dietersheim II
END:VEVENT
BEGIN:VEVENT
UID:20260425T212315CEST-3932HUu6eZ@85.13.134.164
DTSTAMP:20260425T192315Z
DESCRIPTION:Pappelstadion
DTSTART;TZID=Europe/Berlin:20150830T130000
DTEND;TZID=Europe/Berlin:20150830T144500
LOCATION:\,  Lenkersheim
SUMMARY:BK-Gr 05 N/F 15/16: FSV Lenkersheim II - SC Trautskirchen II
END:VEVENT
BEGIN:VEVENT
UID:20260425T212315CEST-3934mmaSaB@85.13.134.164
DTSTAMP:20260425T192315Z
DESCRIPTION:
DTSTART;TZID=Europe/Berlin:20150906T150000
DTEND;TZID=Europe/Berlin:20150906T164500
LOCATION:
SUMMARY:BK-Gr 05 N/F 15/16: SpVgg Markt Baudenbach - SC Trautskirchen II
END:VEVENT
BEGIN:VEVENT
UID:20260425T212315CEST-3936cLUOGl@85.13.134.164
DTSTAMP:20260425T192315Z
DESCRIPTION:
DTSTART;TZID=Europe/Berlin:20150913T150000
DTEND;TZID=Europe/Berlin:20150913T164500
LOCATION:
SUMMARY:BK-Gr 05 N/F 15/16: RW Mausdorf - SC Trautskirchen II
END:VEVENT
BEGIN:VEVENT
UID:20260425T212315CEST-3938Cxkg3Z@85.13.134.164
DTSTAMP:20260425T192315Z
DESCRIPTION:
DTSTART;TZID=Europe/Berlin:20150918T190000
DTEND;TZID=Europe/Berlin:20150918T204500
LOCATION:
SUMMARY:BK-Gr 05 N/F 15/16: SC Trautskirchen II - SV Ergersheim II
END:VEVENT
BEGIN:VEVENT
UID:20260425T212315CEST-3940Xo4x4F@85.13.134.164
DTSTAMP:20260425T192315Z
DESCRIPTION:
DTSTART;TZID=Europe/Berlin:20150927T130000
DTEND;TZID=Europe/Berlin:20150927T144500
LOCATION:
SUMMARY:BK-Gr 05 N/F 15/16: TSV Wilhermsdorf II - SC Trautskirchen II
END:VEVENT
BEGIN:VEVENT
UID:20260425T212315CEST-39426UuEVH@85.13.134.164
DTSTAMP:20260425T192315Z
DESCRIPTION:
DTSTART;TZID=Europe/Berlin:20160326T140000
DTEND;TZID=Europe/Berlin:20160326T154500
LOCATION:
SUMMARY:BK-Gr 05 N/F 15/16: SC Trautskirchen II - SV Neuhof/Zenn II
END:VEVENT
BEGIN:VEVENT
UID:20260425T212315CEST-3943uXSJ75@85.13.134.164
DTSTAMP:20260425T192315Z
DESCRIPTION:
DTSTART;TZID=Europe/Berlin:20151004T130000
DTEND;TZID=Europe/Berlin:20151004T144500
LOCATION:
SUMMARY:BK-Gr 05 N/F 15/16: SG Langenfeld Sugenheim 2  - SC Trautskirchen I
 I
END:VEVENT
BEGIN:VEVENT
UID:20260425T212315CEST-3945ncbCAi@85.13.134.164
DTSTAMP:20260425T192315Z
DESCRIPTION:
DTSTART;TZID=Europe/Berlin:20151011T130000
DTEND;TZID=Europe/Berlin:20151011T144500
LOCATION:
SUMMARY:BK-Gr 05 N/F 15/16: SC Trautskirchen II - TSV Marktbergel II
END:VEVENT
BEGIN:VEVENT
UID:20260425T212315CEST-3947GK2EDU@85.13.134.164
DTSTAMP:20260425T192315Z
DESCRIPTION:
DTSTART;TZID=Europe/Berlin:20151018T130000
DTEND;TZID=Europe/Berlin:20151018T144500
LOCATION:
SUMMARY:BK-Gr 05 N/F 15/16: FC Schauerheim II - SC Trautskirchen II
END:VEVENT
BEGIN:VEVENT
UID:20260425T212315CEST-3949Tuz3pd@85.13.134.164
DTSTAMP:20260425T192315Z
DESCRIPTION:
DTSTART;TZID=Europe/Berlin:20151025T130000
DTEND;TZID=Europe/Berlin:20151025T144500
LOCATION:
SUMMARY:BK-Gr 05 N/F 15/16: SC Trautskirchen II - SG Obernzenn /​ Unteralte
 nbernheim II
END:VEVENT
BEGIN:VEVENT
UID:20260425T212315CEST-3951tVh0GZ@85.13.134.164
DTSTAMP:20260425T192315Z
DESCRIPTION:
DTSTART;TZID=Europe/Berlin:20151101T143000
DTEND;TZID=Europe/Berlin:20151101T161500
LOCATION:
SUMMARY:BK-Gr 05 N/F 15/16: SSV Egenhausen - SC Trautskirchen II
END:VEVENT
BEGIN:VEVENT
UID:20260425T212315CEST-3953uEFnrG@85.13.134.164
DTSTAMP:20260425T192315Z
DESCRIPTION:
DTSTART;TZID=Europe/Berlin:20151108T123000
DTEND;TZID=Europe/Berlin:20151108T141500
LOCATION:
SUMMARY:BK-Gr 05 N/F 15/16: SV Losaurach II - SC Trautskirchen II
END:VEVENT
BEGIN:VEVENT
UID:20260425T212315CEST-3954wVW9vp@85.13.134.164
DTSTAMP:20260425T192315Z
DESCRIPTION:
DTSTART;TZID=Europe/Berlin:20151115T123000
DTEND;TZID=Europe/Berlin:20151115T141500
LOCATION:
SUMMARY:BK-Gr 05 N/F 15/16: SC Dietersheim II - SC Trautskirchen II
END:VEVENT
BEGIN:VEVENT
UID:20260425T212315CEST-3956Cr29lU@85.13.134.164
DTSTAMP:20260425T192315Z
DESCRIPTION:
DTSTART;TZID=Europe/Berlin:20160313T130000
DTEND;TZID=Europe/Berlin:20160313T144500
LOCATION:
SUMMARY:BK-Gr 05 N/F 15/16: SC Trautskirchen II - FSV Lenkersheim II
END:VEVENT
BEGIN:VEVENT
UID:20260425T212315CEST-3958shDI1l@85.13.134.164
DTSTAMP:20260425T192315Z
DESCRIPTION:
DTSTART;TZID=Europe/Berlin:20160320T130000
DTEND;TZID=Europe/Berlin:20160320T144500
LOCATION:
SUMMARY:BK-Gr 05 N/F 15/16: SC Trautskirchen II - SpVgg Markt Baudenbach
END:VEVENT
BEGIN:VEVENT
UID:20260425T212315CEST-3960E9Uf1V@85.13.134.164
DTSTAMP:20260425T192315Z
DESCRIPTION:
DTSTART;TZID=Europe/Berlin:20160403T130000
DTEND;TZID=Europe/Berlin:20160403T144500
LOCATION:
SUMMARY:BK-Gr 05 N/F 15/16: SC Trautskirchen II - RW Mausdorf
END:VEVENT
BEGIN:VEVENT
UID:20260425T212315CEST-3962PXdaiB@85.13.134.164
DTSTAMP:20260425T192315Z
DESCRIPTION:
DTSTART;TZID=Europe/Berlin:20160410T130000
DTEND;TZID=Europe/Berlin:20160410T144500
LOCATION:
SUMMARY:BK-Gr 05 N/F 15/16: SV Ergersheim II - SC Trautskirchen II
END:VEVENT
BEGIN:VEVENT
UID:20260425T212315CEST-3963fg3Nk1@85.13.134.164
DTSTAMP:20260425T192315Z
DESCRIPTION:
DTSTART;TZID=Europe/Berlin:20160417T130000
DTEND;TZID=Europe/Berlin:20160417T144500
LOCATION:
SUMMARY:BK-Gr 05 N/F 15/16: SC Trautskirchen II - TSV Wilhermsdorf II
END:VEVENT
BEGIN:VEVENT
UID:20260425T212315CEST-3965CfnEJl@85.13.134.164
DTSTAMP:20260425T192315Z
DESCRIPTION:
DTSTART;TZID=Europe/Berlin:20160430T160000
DTEND;TZID=Europe/Berlin:20160430T174500
LOCATION:
SUMMARY:BK-Gr 05 N/F 15/16: SV Neuhof/Zenn II - SC Trautskirchen II
END:VEVENT
BEGIN:VEVENT
UID:20260425T212315CEST-3967U3H5uV@85.13.134.164
DTSTAMP:20260425T192315Z
DESCRIPTION:
DTSTART;TZID=Europe/Berlin:20160508T130000
DTEND;TZID=Europe/Berlin:20160508T144500
LOCATION:
SUMMARY:BK-Gr 05 N/F 15/16: SC Trautskirchen II - SG Langenfeld Sugenheim 2
  
END:VEVENT
BEGIN:VEVENT
UID:20260425T212315CEST-3969MIXgAP@85.13.134.164
DTSTAMP:20260425T192315Z
DESCRIPTION:
DTSTART;TZID=Europe/Berlin:20160522T130000
DTEND;TZID=Europe/Berlin:20160522T144500
LOCATION:
SUMMARY:BK-Gr 05 N/F 15/16: TSV Marktbergel II - SC Trautskirchen II
END:VEVENT
BEGIN:VEVENT
UID:20260425T212315CEST-3971DHHlVT@85.13.134.164
DTSTAMP:20260425T192315Z
DESCRIPTION:
DTSTART;TZID=Europe/Berlin:20160529T130000
DTEND;TZID=Europe/Berlin:20160529T144500
LOCATION:
SUMMARY:BK-Gr 05 N/F 15/16: SC Trautskirchen II - FC Schauerheim II
END:VEVENT
BEGIN:VEVENT
UID:20260425T212315CEST-3972UgWB9v@85.13.134.164
DTSTAMP:20260425T192315Z
DESCRIPTION:
DTSTART;TZID=Europe/Berlin:20160605T130000
DTEND;TZID=Europe/Berlin:20160605T144500
LOCATION:
SUMMARY:BK-Gr 05 N/F 15/16: SG Obernzenn /​ Unteraltenbernheim II - SC Trau
 tskirchen II
END:VEVENT
BEGIN:VEVENT
UID:20260425T212315CEST-3974i8kEM8@85.13.134.164
DTSTAMP:20260425T192315Z
DESCRIPTION:
DTSTART;TZID=Europe/Berlin:20160612T130000
DTEND;TZID=Europe/Berlin:20160612T144500
LOCATION:
SUMMARY:BK-Gr 05 N/F 15/16: SC Trautskirchen II - SSV Egenhausen
END:VEVENT
END:VCALENDAR
