BEGIN:VCALENDAR
VERSION:2.0
PRODID:-//85.13.134.164//NONSGML kigkonsult.se iCalcreator 2.18//
X-WR-TIMEZONE:Europe/Berlin
BEGIN:VTIMEZONE
TZID:Europe/Berlin
X-LIC-LOCATION:Europe/Berlin
BEGIN:STANDARD
DTSTART:20131027T030000
TZOFFSETFROM:+0200
TZOFFSETTO:+0100
RDATE:20141026T030000
TZNAME:CET
END:STANDARD
BEGIN:DAYLIGHT
DTSTART:20140330T020000
TZOFFSETFROM:+0100
TZOFFSETTO:+0200
RDATE:20150329T020000
TZNAME:CEST
END:DAYLIGHT
END:VTIMEZONE
BEGIN:VEVENT
UID:20260425T212315CEST-6097J3CSro@85.13.134.164
DTSTAMP:20260425T192315Z
DESCRIPTION:
DTSTART;TZID=Europe/Berlin:20130818T170000
DTEND;TZID=Europe/Berlin:20130818T184500
LOCATION:
SUMMARY:AK-Gr 5 N/F 13/14: TSV Markt Bibart - TSV Scheinfeld
END:VEVENT
BEGIN:VEVENT
UID:20260425T212315CEST-60993ULGLg@85.13.134.164
DTSTAMP:20260425T192315Z
DESCRIPTION:
DTSTART;TZID=Europe/Berlin:20130825T170000
DTEND;TZID=Europe/Berlin:20130825T184500
LOCATION:
SUMMARY:AK-Gr 5 N/F 13/14: FSV Ipsheim - TSV Markt Bibart
END:VEVENT
BEGIN:VEVENT
UID:20260425T212315CEST-6101xM89CD@85.13.134.164
DTSTAMP:20260425T192315Z
DESCRIPTION:
DTSTART;TZID=Europe/Berlin:20130901T170000
DTEND;TZID=Europe/Berlin:20130901T184500
LOCATION:
SUMMARY:AK-Gr 5 N/F 13/14: TSV Markt Bibart - DTV Diespeck II
END:VEVENT
BEGIN:VEVENT
UID:20260425T212315CEST-6102io9OVn@85.13.134.164
DTSTAMP:20260425T192315Z
DESCRIPTION:
DTSTART;TZID=Europe/Berlin:20130908T170000
DTEND;TZID=Europe/Berlin:20130908T184500
LOCATION:
SUMMARY:AK-Gr 5 N/F 13/14: MSC Markt Taschendorf - TSV Markt Bibart
END:VEVENT
BEGIN:VEVENT
UID:20260425T212315CEST-6104vL44Uh@85.13.134.164
DTSTAMP:20260425T192315Z
DESCRIPTION:Pappelstadion
DTSTART;TZID=Europe/Berlin:20130915T170000
DTEND;TZID=Europe/Berlin:20130915T184500
LOCATION:\,  Lenkersheim
SUMMARY:AK-Gr 5 N/F 13/14: FSV Lenkersheim - TSV Markt Bibart
END:VEVENT
BEGIN:VEVENT
UID:20260425T212315CEST-6106zC4uGG@85.13.134.164
DTSTAMP:20260425T192315Z
DESCRIPTION:
DTSTART;TZID=Europe/Berlin:20130922T170000
DTEND;TZID=Europe/Berlin:20130922T184500
LOCATION:
SUMMARY:AK-Gr 5 N/F 13/14: TSV Markt Bibart - SpVgg Markt Baudenbach
END:VEVENT
BEGIN:VEVENT
UID:20260425T212315CEST-6108o55hTB@85.13.134.164
DTSTAMP:20260425T192315Z
DESCRIPTION:
DTSTART;TZID=Europe/Berlin:20130929T170000
DTEND;TZID=Europe/Berlin:20130929T184500
LOCATION:
SUMMARY:AK-Gr 5 N/F 13/14: SV Unteraltenbernheim - TSV Markt Bibart
END:VEVENT
BEGIN:VEVENT
UID:20260425T212315CEST-6109CGPjvX@85.13.134.164
DTSTAMP:20260425T192315Z
DESCRIPTION:
DTSTART;TZID=Europe/Berlin:20131003T170000
DTEND;TZID=Europe/Berlin:20131003T184500
LOCATION:
SUMMARY:AK-Gr 5 N/F 13/14: TSV Markt Bibart - FC Dachsbach-Birnbaum
END:VEVENT
BEGIN:VEVENT
UID:20260425T212315CEST-6111xOZVWd@85.13.134.164
DTSTAMP:20260425T192315Z
DESCRIPTION:
DTSTART;TZID=Europe/Berlin:20131101T153000
DTEND;TZID=Europe/Berlin:20131101T171500
LOCATION:
SUMMARY:AK-Gr 5 N/F 13/14: SV Brunn - TSV Markt Bibart
END:VEVENT
BEGIN:VEVENT
UID:20260425T212315CEST-61134NkUDn@85.13.134.164
DTSTAMP:20260425T192315Z
DESCRIPTION:
DTSTART;TZID=Europe/Berlin:20131013T170000
DTEND;TZID=Europe/Berlin:20131013T184500
LOCATION:
SUMMARY:AK-Gr 5 N/F 13/14: TSV Markt Bibart - FC Schauerheim
END:VEVENT
BEGIN:VEVENT
UID:20260425T212315CEST-6115bBB5N5@85.13.134.164
DTSTAMP:20260425T192315Z
DESCRIPTION:
DTSTART;TZID=Europe/Berlin:20131020T170000
DTEND;TZID=Europe/Berlin:20131020T184500
LOCATION:
SUMMARY:AK-Gr 5 N/F 13/14: SC Dietersheim - TSV Markt Bibart
END:VEVENT
BEGIN:VEVENT
UID:20260425T212315CEST-611773CUMm@85.13.134.164
DTSTAMP:20260425T192315Z
DESCRIPTION:
DTSTART;TZID=Europe/Berlin:20131027T163000
DTEND;TZID=Europe/Berlin:20131027T181500
LOCATION:
SUMMARY:AK-Gr 5 N/F 13/14: TSV Markt Bibart - ASV Wilhelmsdorf
END:VEVENT
BEGIN:VEVENT
UID:20260425T212315CEST-6118OtvWAe@85.13.134.164
DTSTAMP:20260425T192315Z
DESCRIPTION:
DTSTART;TZID=Europe/Berlin:20131103T153000
DTEND;TZID=Europe/Berlin:20131103T171500
LOCATION:
SUMMARY:AK-Gr 5 N/F 13/14: FSV Bad Windsheim II - TSV Markt Bibart
END:VEVENT
BEGIN:VEVENT
UID:20260425T212315CEST-6120h3gKDV@85.13.134.164
DTSTAMP:20260425T192315Z
DESCRIPTION:
DTSTART;TZID=Europe/Berlin:20131124T153000
DTEND;TZID=Europe/Berlin:20131124T171500
LOCATION:
SUMMARY:AK-Gr 5 N/F 13/14: TSV Scheinfeld - TSV Markt Bibart
END:VEVENT
BEGIN:VEVENT
UID:20260425T212315CEST-6122O5ag2X@85.13.134.164
DTSTAMP:20260425T192315Z
DESCRIPTION:
DTSTART;TZID=Europe/Berlin:20131117T153000
DTEND;TZID=Europe/Berlin:20131117T171500
LOCATION:
SUMMARY:AK-Gr 5 N/F 13/14: TSV Markt Bibart - FSV Ipsheim
END:VEVENT
BEGIN:VEVENT
UID:20260425T212315CEST-61247J7UE9@85.13.134.164
DTSTAMP:20260425T192315Z
DESCRIPTION:
DTSTART;TZID=Europe/Berlin:20140316T153000
DTEND;TZID=Europe/Berlin:20140316T171500
LOCATION:
SUMMARY:AK-Gr 5 N/F 13/14: DTV Diespeck II - TSV Markt Bibart
END:VEVENT
BEGIN:VEVENT
UID:20260425T212315CEST-6125jO19Hv@85.13.134.164
DTSTAMP:20260425T192315Z
DESCRIPTION:
DTSTART;TZID=Europe/Berlin:20140323T160000
DTEND;TZID=Europe/Berlin:20140323T174500
LOCATION:
SUMMARY:AK-Gr 5 N/F 13/14: TSV Markt Bibart - MSC Markt Taschendorf
END:VEVENT
BEGIN:VEVENT
UID:20260425T212315CEST-6127HxEMgx@85.13.134.164
DTSTAMP:20260425T192315Z
DESCRIPTION:
DTSTART;TZID=Europe/Berlin:20140330T170000
DTEND;TZID=Europe/Berlin:20140330T184500
LOCATION:
SUMMARY:AK-Gr 5 N/F 13/14: TSV Markt Bibart - FSV Lenkersheim
END:VEVENT
BEGIN:VEVENT
UID:20260425T212315CEST-6129wLd6v7@85.13.134.164
DTSTAMP:20260425T192315Z
DESCRIPTION:
DTSTART;TZID=Europe/Berlin:20140406T170000
DTEND;TZID=Europe/Berlin:20140406T184500
LOCATION:
SUMMARY:AK-Gr 5 N/F 13/14: SpVgg Markt Baudenbach - TSV Markt Bibart
END:VEVENT
BEGIN:VEVENT
UID:20260425T212315CEST-6131DUJD76@85.13.134.164
DTSTAMP:20260425T192315Z
DESCRIPTION:
DTSTART;TZID=Europe/Berlin:20140413T170000
DTEND;TZID=Europe/Berlin:20140413T184500
LOCATION:
SUMMARY:AK-Gr 5 N/F 13/14: TSV Markt Bibart - SV Unteraltenbernheim
END:VEVENT
BEGIN:VEVENT
UID:20260425T212315CEST-6133JEjgEV@85.13.134.164
DTSTAMP:20260425T192315Z
DESCRIPTION:
DTSTART;TZID=Europe/Berlin:20140504T170000
DTEND;TZID=Europe/Berlin:20140504T184500
LOCATION:
SUMMARY:AK-Gr 5 N/F 13/14: FC Dachsbach-Birnbaum - TSV Markt Bibart
END:VEVENT
BEGIN:VEVENT
UID:20260425T212315CEST-6134zkC7GD@85.13.134.164
DTSTAMP:20260425T192315Z
DESCRIPTION:
DTSTART;TZID=Europe/Berlin:20140511T170000
DTEND;TZID=Europe/Berlin:20140511T184500
LOCATION:
SUMMARY:AK-Gr 5 N/F 13/14: TSV Markt Bibart - SV Brunn
END:VEVENT
BEGIN:VEVENT
UID:20260425T212315CEST-6136lfJvwx@85.13.134.164
DTSTAMP:20260425T192315Z
DESCRIPTION:
DTSTART;TZID=Europe/Berlin:20140518T170000
DTEND;TZID=Europe/Berlin:20140518T184500
LOCATION:
SUMMARY:AK-Gr 5 N/F 13/14: FC Schauerheim - TSV Markt Bibart
END:VEVENT
BEGIN:VEVENT
UID:20260425T212315CEST-6138VLihDa@85.13.134.164
DTSTAMP:20260425T192315Z
DESCRIPTION:
DTSTART;TZID=Europe/Berlin:20140525T170000
DTEND;TZID=Europe/Berlin:20140525T184500
LOCATION:
SUMMARY:AK-Gr 5 N/F 13/14: TSV Markt Bibart - SC Dietersheim
END:VEVENT
BEGIN:VEVENT
UID:20260425T212315CEST-6140XhPXPE@85.13.134.164
DTSTAMP:20260425T192315Z
DESCRIPTION:
DTSTART;TZID=Europe/Berlin:20140601T170000
DTEND;TZID=Europe/Berlin:20140601T184500
LOCATION:
SUMMARY:AK-Gr 5 N/F 13/14: ASV Wilhelmsdorf - TSV Markt Bibart
END:VEVENT
BEGIN:VEVENT
UID:20260425T212315CEST-6141ILn0pu@85.13.134.164
DTSTAMP:20260425T192315Z
DESCRIPTION:
DTSTART;TZID=Europe/Berlin:20140607T190000
DTEND;TZID=Europe/Berlin:20140607T204500
LOCATION:
SUMMARY:AK-Gr 5 N/F 13/14: TSV Markt Bibart - FSV Bad Windsheim II
END:VEVENT
END:VCALENDAR
