BEGIN:VCALENDAR
VERSION:2.0
PRODID:-//85.13.134.164//NONSGML kigkonsult.se iCalcreator 2.18//
X-WR-TIMEZONE:Europe/Berlin
BEGIN:VTIMEZONE
TZID:Europe/Berlin
X-LIC-LOCATION:Europe/Berlin
BEGIN:STANDARD
DTSTART:20181028T030000
TZOFFSETFROM:+0200
TZOFFSETTO:+0100
RDATE:20191027T030000
TZNAME:CET
END:STANDARD
BEGIN:DAYLIGHT
DTSTART:20190331T020000
TZOFFSETFROM:+0100
TZOFFSETTO:+0200
RDATE:20200329T020000
TZNAME:CEST
END:DAYLIGHT
END:VTIMEZONE
BEGIN:VEVENT
UID:20260421T210309CEST-7536I6G8cd@85.13.134.164
DTSTAMP:20260421T190309Z
DESCRIPTION:
DTSTART;TZID=Europe/Berlin:20180819T150000
DTEND;TZID=Europe/Berlin:20180819T164500
LOCATION:
SUMMARY:BK-Gr 5 N/F 18-19: SG Franken Neustadt/​TSV Neustadt/​Aisch I - SF 
 Laubendorf II
END:VEVENT
BEGIN:VEVENT
UID:20260421T210309CEST-7538OdalPj@85.13.134.164
DTSTAMP:20260421T190309Z
DESCRIPTION:
DTSTART;TZID=Europe/Berlin:20180824T190000
DTEND;TZID=Europe/Berlin:20180824T204500
LOCATION:
SUMMARY:BK-Gr 5 N/F 18-19: DTV Diespeck II - SG Franken Neustadt/​TSV Neust
 adt/​Aisch I
END:VEVENT
BEGIN:VEVENT
UID:20260421T210309CEST-7540vvka3E@85.13.134.164
DTSTAMP:20260421T190309Z
DESCRIPTION:
DTSTART;TZID=Europe/Berlin:20180831T180000
DTEND;TZID=Europe/Berlin:20180831T194500
LOCATION:
SUMMARY:BK-Gr 5 N/F 18-19: SG Franken Neustadt/​TSV Neustadt/​Aisch I - SV 
 Burggrafenhof II
END:VEVENT
BEGIN:VEVENT
UID:20260421T210309CEST-75428xBb4v@85.13.134.164
DTSTAMP:20260421T190309Z
DESCRIPTION:
DTSTART;TZID=Europe/Berlin:20180909T130000
DTEND;TZID=Europe/Berlin:20180909T144500
LOCATION:
SUMMARY:BK-Gr 5 N/F 18-19: SV Losaurach II - SG Franken Neustadt/​TSV Neust
 adt/​Aisch I
END:VEVENT
BEGIN:VEVENT
UID:20260421T210309CEST-75441hRod0@85.13.134.164
DTSTAMP:20260421T190309Z
DESCRIPTION:
DTSTART;TZID=Europe/Berlin:20180915T143000
DTEND;TZID=Europe/Berlin:20180915T161500
LOCATION:
SUMMARY:BK-Gr 5 N/F 18-19: SG Franken Neustadt/​TSV Neustadt/​Aisch I - SG 
 Lenkersheim / Bad Windsheim II
END:VEVENT
BEGIN:VEVENT
UID:20260421T210309CEST-75465Hdowl@85.13.134.164
DTSTAMP:20260421T190309Z
DESCRIPTION:
DTSTART;TZID=Europe/Berlin:20180923T130000
DTEND;TZID=Europe/Berlin:20180923T144500
LOCATION:
SUMMARY:BK-Gr 5 N/F 18-19: TSV Langenzenn II - SG Franken Neustadt/​TSV Neu
 stadt/​Aisch I
END:VEVENT
BEGIN:VEVENT
UID:20260421T210309CEST-7548XNT39J@85.13.134.164
DTSTAMP:20260421T190309Z
DESCRIPTION:
DTSTART;TZID=Europe/Berlin:20180929T140000
DTEND;TZID=Europe/Berlin:20180929T154500
LOCATION:
SUMMARY:BK-Gr 5 N/F 18-19: SG Franken Neustadt/​TSV Neustadt/​Aisch I - SV 
 Neuhof/Zenn II
END:VEVENT
BEGIN:VEVENT
UID:20260421T210309CEST-7550e0gWGw@85.13.134.164
DTSTAMP:20260421T190309Z
DESCRIPTION:
DTSTART;TZID=Europe/Berlin:20181007T130000
DTEND;TZID=Europe/Berlin:20181007T144500
LOCATION:
SUMMARY:BK-Gr 5 N/F 18-19:  	SG Brunn/​Wilhelmsdorf I  - SG Franken Neustadt
 /​TSV Neustadt/​Aisch I
END:VEVENT
BEGIN:VEVENT
UID:20260421T210309CEST-7552nGaRO9@85.13.134.164
DTSTAMP:20260421T190309Z
DESCRIPTION:
DTSTART;TZID=Europe/Berlin:20181101T123000
DTEND;TZID=Europe/Berlin:20181101T141500
LOCATION:
SUMMARY:BK-Gr 5 N/F 18-19: SG Franken Neustadt/​TSV Neustadt/​Aisch I - FC 
 Dachsbach-Birnbaum II
END:VEVENT
BEGIN:VEVENT
UID:20260421T210309CEST-7554PKImmA@85.13.134.164
DTSTAMP:20260421T190309Z
DESCRIPTION:
DTSTART;TZID=Europe/Berlin:20181021T140000
DTEND;TZID=Europe/Berlin:20181021T154500
LOCATION:
SUMMARY:BK-Gr 5 N/F 18-19: SG FC Schauerheim II /​SC Dietersheim II - SG Fr
 anken Neustadt/​TSV Neustadt/​Aisch I
END:VEVENT
BEGIN:VEVENT
UID:20260421T210309CEST-7556NZuGdt@85.13.134.164
DTSTAMP:20260421T190309Z
DESCRIPTION:
DTSTART;TZID=Europe/Berlin:20181026T190000
DTEND;TZID=Europe/Berlin:20181026T204500
LOCATION:
SUMMARY:BK-Gr 5 N/F 18-19: SG Franken Neustadt/​TSV Neustadt/​Aisch I - SV 
 Steigerwald-Münchsteinach 2
END:VEVENT
BEGIN:VEVENT
UID:20260421T210309CEST-7558IWtG1v@85.13.134.164
DTSTAMP:20260421T190309Z
DESCRIPTION:
DTSTART;TZID=Europe/Berlin:20181104T123000
DTEND;TZID=Europe/Berlin:20181104T141500
LOCATION:
SUMMARY:BK-Gr 5 N/F 18-19: TSV Wilhermsdorf II - SG Franken Neustadt/​TSV N
 eustadt/​Aisch I
END:VEVENT
BEGIN:VEVENT
UID:20260421T210309CEST-7560usURtI@85.13.134.164
DTSTAMP:20260421T190309Z
DESCRIPTION:
DTSTART;TZID=Europe/Berlin:20181111T123000
DTEND;TZID=Europe/Berlin:20181111T141500
LOCATION:
SUMMARY:BK-Gr 5 N/F 18-19: SG Franken Neustadt/​TSV Neustadt/​Aisch I - SpV
 gg Thierberg
END:VEVENT
BEGIN:VEVENT
UID:20260421T210309CEST-7562xHdFnK@85.13.134.164
DTSTAMP:20260421T190309Z
DESCRIPTION:
DTSTART;TZID=Europe/Berlin:20181118T123000
DTEND;TZID=Europe/Berlin:20181118T141500
LOCATION:
SUMMARY:BK-Gr 5 N/F 18-19: SF Laubendorf II - SG Franken Neustadt/​TSV Neus
 tadt/​Aisch I
END:VEVENT
BEGIN:VEVENT
UID:20260421T210309CEST-7563ptEWiU@85.13.134.164
DTSTAMP:20260421T190309Z
DESCRIPTION:
DTSTART;TZID=Europe/Berlin:20190317T130000
DTEND;TZID=Europe/Berlin:20190317T144500
LOCATION:
SUMMARY:BK-Gr 5 N/F 18-19: SG Franken Neustadt/​TSV Neustadt/​Aisch I - DTV
  Diespeck II
END:VEVENT
BEGIN:VEVENT
UID:20260421T210309CEST-7565gGKnH2@85.13.134.164
DTSTAMP:20260421T190309Z
DESCRIPTION:
DTSTART;TZID=Europe/Berlin:20190324T130000
DTEND;TZID=Europe/Berlin:20190324T144500
LOCATION:
SUMMARY:BK-Gr 5 N/F 18-19: SV Burggrafenhof II - SG Franken Neustadt/​TSV N
 eustadt/​Aisch I
END:VEVENT
BEGIN:VEVENT
UID:20260421T210309CEST-7567rWe0VX@85.13.134.164
DTSTAMP:20260421T190309Z
DESCRIPTION:
DTSTART;TZID=Europe/Berlin:20190331T130000
DTEND;TZID=Europe/Berlin:20190331T144500
LOCATION:
SUMMARY:BK-Gr 5 N/F 18-19: SG Franken Neustadt/​TSV Neustadt/​Aisch I - SV 
 Losaurach II
END:VEVENT
BEGIN:VEVENT
UID:20260421T210309CEST-7569Sm0J72@85.13.134.164
DTSTAMP:20260421T190309Z
DESCRIPTION:Pappelstadion
DTSTART;TZID=Europe/Berlin:20190422T130000
DTEND;TZID=Europe/Berlin:20190422T144500
LOCATION:\,  Lenkersheim
SUMMARY:BK-Gr 5 N/F 18-19: SG Lenkersheim / Bad Windsheim II - SG Franken N
 eustadt/​TSV Neustadt/​Aisch I
END:VEVENT
BEGIN:VEVENT
UID:20260421T210309CEST-7571Wj4daA@85.13.134.164
DTSTAMP:20260421T190309Z
DESCRIPTION:
DTSTART;TZID=Europe/Berlin:20190413T143000
DTEND;TZID=Europe/Berlin:20190413T161500
LOCATION:
SUMMARY:BK-Gr 5 N/F 18-19: SG Franken Neustadt/​TSV Neustadt/​Aisch I - TSV
  Langenzenn II
END:VEVENT
BEGIN:VEVENT
UID:20260421T210309CEST-757305JHnw@85.13.134.164
DTSTAMP:20260421T190309Z
DESCRIPTION:
DTSTART;TZID=Europe/Berlin:20190427T140000
DTEND;TZID=Europe/Berlin:20190427T154500
LOCATION:
SUMMARY:BK-Gr 5 N/F 18-19: SV Neuhof/Zenn II - SG Franken Neustadt/​TSV Neu
 stadt/​Aisch I
END:VEVENT
BEGIN:VEVENT
UID:20260421T210309CEST-75746dZhmK@85.13.134.164
DTSTAMP:20260421T190309Z
DESCRIPTION:
DTSTART;TZID=Europe/Berlin:20190504T143000
DTEND;TZID=Europe/Berlin:20190504T161500
LOCATION:
SUMMARY:BK-Gr 5 N/F 18-19: SG Franken Neustadt/​TSV Neustadt/​Aisch I -  	SG
  Brunn/​Wilhelmsdorf I 
END:VEVENT
BEGIN:VEVENT
UID:20260421T210309CEST-7576OCwEvV@85.13.134.164
DTSTAMP:20260421T190309Z
DESCRIPTION:
DTSTART;TZID=Europe/Berlin:20190512T130000
DTEND;TZID=Europe/Berlin:20190512T144500
LOCATION:
SUMMARY:BK-Gr 5 N/F 18-19: FC Dachsbach-Birnbaum II - SG Franken Neustadt/​
 TSV Neustadt/​Aisch I
END:VEVENT
BEGIN:VEVENT
UID:20260421T210309CEST-7578Uh09c1@85.13.134.164
DTSTAMP:20260421T190309Z
DESCRIPTION:
DTSTART;TZID=Europe/Berlin:20190519T143000
DTEND;TZID=Europe/Berlin:20190519T161500
LOCATION:
SUMMARY:BK-Gr 5 N/F 18-19: SG Franken Neustadt/​TSV Neustadt/​Aisch I - SG 
 FC Schauerheim II /​SC Dietersheim II
END:VEVENT
BEGIN:VEVENT
UID:20260421T210309CEST-7580hZCwt5@85.13.134.164
DTSTAMP:20260421T190309Z
DESCRIPTION:
DTSTART;TZID=Europe/Berlin:20190526T130000
DTEND;TZID=Europe/Berlin:20190526T144500
LOCATION:
SUMMARY:BK-Gr 5 N/F 18-19: SV Steigerwald-Münchsteinach 2 - SG Franken Neus
 tadt/​TSV Neustadt/​Aisch I
END:VEVENT
BEGIN:VEVENT
UID:20260421T210309CEST-7582INrWt3@85.13.134.164
DTSTAMP:20260421T190309Z
DESCRIPTION:
DTSTART;TZID=Europe/Berlin:20190602T130000
DTEND;TZID=Europe/Berlin:20190602T144500
LOCATION:
SUMMARY:BK-Gr 5 N/F 18-19: SG Franken Neustadt/​TSV Neustadt/​Aisch I - TSV
  Wilhermsdorf II
END:VEVENT
BEGIN:VEVENT
UID:20260421T210309CEST-7584vx8OrW@85.13.134.164
DTSTAMP:20260421T190309Z
DESCRIPTION:
DTSTART;TZID=Europe/Berlin:20190608T160000
DTEND;TZID=Europe/Berlin:20190608T174500
LOCATION:
SUMMARY:BK-Gr 5 N/F 18-19: SpVgg Thierberg - SG Franken Neustadt/​TSV Neust
 adt/​Aisch I
END:VEVENT
END:VCALENDAR
