BEGIN:VCALENDAR
VERSION:2.0
PRODID:-//85.13.134.164//NONSGML kigkonsult.se iCalcreator 2.18//
X-WR-TIMEZONE:Europe/Berlin
BEGIN:VTIMEZONE
TZID:Europe/Berlin
X-LIC-LOCATION:Europe/Berlin
BEGIN:STANDARD
DTSTART:20171029T030000
TZOFFSETFROM:+0200
TZOFFSETTO:+0100
RDATE:20181028T030000
TZNAME:CET
END:STANDARD
BEGIN:DAYLIGHT
DTSTART:20180325T020000
TZOFFSETFROM:+0100
TZOFFSETTO:+0200
RDATE:20190331T020000
TZNAME:CEST
END:DAYLIGHT
END:VTIMEZONE
BEGIN:VEVENT
UID:20260421T164613CEST-8686AXeBMd@85.13.134.164
DTSTAMP:20260421T144613Z
DESCRIPTION:
DTSTART;TZID=Europe/Berlin:20171006T183000
DTEND;TZID=Europe/Berlin:20171006T201500
LOCATION:
SUMMARY:BK-Gr 4 N/F 17-18: SG Adelshofen 2 / Hohlach 3 - TSG Geslau - Buch 
 a.W III
END:VEVENT
BEGIN:VEVENT
UID:20260421T164613CEST-8688h1jVPJ@85.13.134.164
DTSTAMP:20260421T144613Z
DESCRIPTION:
DTSTART;TZID=Europe/Berlin:20170903T130000
DTEND;TZID=Europe/Berlin:20170903T144500
LOCATION:
SUMMARY:BK-Gr 4 N/F 17-18: TSV Burgbernheim II - SG Adelshofen 2 / Hohlach 
 3
END:VEVENT
BEGIN:VEVENT
UID:20260421T164613CEST-8690cWib0o@85.13.134.164
DTSTAMP:20260421T144613Z
DESCRIPTION:
DTSTART;TZID=Europe/Berlin:20170915T183000
DTEND;TZID=Europe/Berlin:20170915T201500
LOCATION:
SUMMARY:BK-Gr 4 N/F 17-18: SG Obernzenn /​ Unteraltenbernheim II - SG Adels
 hofen 2 / Hohlach 3
END:VEVENT
BEGIN:VEVENT
UID:20260421T164613CEST-8692DVTUHu@85.13.134.164
DTSTAMP:20260421T144613Z
DESCRIPTION:
DTSTART;TZID=Europe/Berlin:20170924T130000
DTEND;TZID=Europe/Berlin:20170924T144500
LOCATION:
SUMMARY:BK-Gr 4 N/F 17-18: SG Adelshofen 2 / Hohlach 3 - SV Ergersheim II
END:VEVENT
BEGIN:VEVENT
UID:20260421T164613CEST-8694cdo5ce@85.13.134.164
DTSTAMP:20260421T144613Z
DESCRIPTION:Pappelstadion
DTSTART;TZID=Europe/Berlin:20171001T130000
DTEND;TZID=Europe/Berlin:20171001T144500
LOCATION:\,  Lenkersheim
SUMMARY:BK-Gr 4 N/F 17-18: SG Lenkersheim / Bad Windsheim II - SG Adelshofe
 n 2 / Hohlach 3
END:VEVENT
BEGIN:VEVENT
UID:20260421T164613CEST-8696fkTRok@85.13.134.164
DTSTAMP:20260421T144613Z
DESCRIPTION:
DTSTART;TZID=Europe/Berlin:20171003T130000
DTEND;TZID=Europe/Berlin:20171003T144500
LOCATION:
SUMMARY:BK-Gr 4 N/F 17-18: SG Adelshofen 2 / Hohlach 3 - FSV Ipsheim
END:VEVENT
BEGIN:VEVENT
UID:20260421T164613CEST-86981JwC8g@85.13.134.164
DTSTAMP:20260421T144613Z
DESCRIPTION:
DTSTART;TZID=Europe/Berlin:20171101T123000
DTEND;TZID=Europe/Berlin:20171101T141500
LOCATION:
SUMMARY:BK-Gr 4 N/F 17-18: TSV Flachslanden 2 - SG Adelshofen 2 / Hohlach 3
END:VEVENT
BEGIN:VEVENT
UID:20260421T164613CEST-8699WTbzmg@85.13.134.164
DTSTAMP:20260421T144613Z
DESCRIPTION:
DTSTART;TZID=Europe/Berlin:20171015T130000
DTEND;TZID=Europe/Berlin:20171015T144500
LOCATION:
SUMMARY:BK-Gr 4 N/F 17-18: SG Adelshofen 2 / Hohlach 3 - SSV Egenhausen
END:VEVENT
BEGIN:VEVENT
UID:20260421T164613CEST-8701HZmv9b@85.13.134.164
DTSTAMP:20260421T144613Z
DESCRIPTION:
DTSTART;TZID=Europe/Berlin:20171022T130000
DTEND;TZID=Europe/Berlin:20171022T144500
LOCATION:
SUMMARY:BK-Gr 4 N/F 17-18: SG Adelshofen 2 / Hohlach 3 - ASV Breitenau 2
END:VEVENT
BEGIN:VEVENT
UID:20260421T164613CEST-8703umJw1V@85.13.134.164
DTSTAMP:20260421T144613Z
DESCRIPTION:
DTSTART;TZID=Europe/Berlin:20180420T183000
DTEND;TZID=Europe/Berlin:20180420T201500
LOCATION:
SUMMARY:BK-Gr 4 N/F 17-18: TSV Marktbergel II - SG Adelshofen 2 / Hohlach 3
END:VEVENT
BEGIN:VEVENT
UID:20260421T164613CEST-8705F3BxAC@85.13.134.164
DTSTAMP:20260421T144613Z
DESCRIPTION:
DTSTART;TZID=Europe/Berlin:20171105T123000
DTEND;TZID=Europe/Berlin:20171105T141500
LOCATION:
SUMMARY:BK-Gr 4 N/F 17-18: SG Adelshofen 2 / Hohlach 3 - SG Colmberg/​Oberd
 achstetten II
END:VEVENT
BEGIN:VEVENT
UID:20260421T164613CEST-87073vvztl@85.13.134.164
DTSTAMP:20260421T144613Z
DESCRIPTION:Hauptplatz TSV 1974 GESLAU
DTSTART;TZID=Europe/Berlin:20180503T183000
DTEND;TZID=Europe/Berlin:20180503T201500
LOCATION:An der Staatsstr. 2250\, 91608 Geslau
SUMMARY:BK-Gr 4 N/F 17-18: TSG Geslau - Buch a.W III - SG Adelshofen 2 / Ho
 hlach 3
END:VEVENT
BEGIN:VEVENT
UID:20260421T164613CEST-8709wcvJV3@85.13.134.164
DTSTAMP:20260421T144613Z
DESCRIPTION:
DTSTART;TZID=Europe/Berlin:20180402T130000
DTEND;TZID=Europe/Berlin:20180402T144500
LOCATION:
SUMMARY:BK-Gr 4 N/F 17-18: SG Adelshofen 2 / Hohlach 3 - TSV Burgbernheim I
 I
END:VEVENT
BEGIN:VEVENT
UID:20260421T164613CEST-8710OZi9N8@85.13.134.164
DTSTAMP:20260421T144613Z
DESCRIPTION:
DTSTART;TZID=Europe/Berlin:20180408T130000
DTEND;TZID=Europe/Berlin:20180408T144500
LOCATION:
SUMMARY:BK-Gr 4 N/F 17-18: SG Adelshofen 2 / Hohlach 3 - SG Obernzenn /​ Un
 teraltenbernheim II
END:VEVENT
BEGIN:VEVENT
UID:20260421T164613CEST-8712RKh0uI@85.13.134.164
DTSTAMP:20260421T144613Z
DESCRIPTION:
DTSTART;TZID=Europe/Berlin:20180415T130000
DTEND;TZID=Europe/Berlin:20180415T144500
LOCATION:
SUMMARY:BK-Gr 4 N/F 17-18: SV Ergersheim II - SG Adelshofen 2 / Hohlach 3
END:VEVENT
BEGIN:VEVENT
UID:20260421T164613CEST-8714njk2sg@85.13.134.164
DTSTAMP:20260421T144613Z
DESCRIPTION:
DTSTART;TZID=Europe/Berlin:20180422T130000
DTEND;TZID=Europe/Berlin:20180422T144500
LOCATION:
SUMMARY:BK-Gr 4 N/F 17-18: SG Adelshofen 2 / Hohlach 3 - SG Lenkersheim / B
 ad Windsheim II
END:VEVENT
BEGIN:VEVENT
UID:20260421T164613CEST-8716lSUdhP@85.13.134.164
DTSTAMP:20260421T144613Z
DESCRIPTION:
DTSTART;TZID=Europe/Berlin:20180429T150000
DTEND;TZID=Europe/Berlin:20180429T164500
LOCATION:
SUMMARY:BK-Gr 4 N/F 17-18: FSV Ipsheim - SG Adelshofen 2 / Hohlach 3
END:VEVENT
BEGIN:VEVENT
UID:20260421T164613CEST-8718z0zm9u@85.13.134.164
DTSTAMP:20260421T144613Z
DESCRIPTION:
DTSTART;TZID=Europe/Berlin:20180506T130000
DTEND;TZID=Europe/Berlin:20180506T144500
LOCATION:
SUMMARY:BK-Gr 4 N/F 17-18: SG Adelshofen 2 / Hohlach 3 - TSV Flachslanden 2
END:VEVENT
BEGIN:VEVENT
UID:20260421T164613CEST-8719CMVVKw@85.13.134.164
DTSTAMP:20260421T144613Z
DESCRIPTION:
DTSTART;TZID=Europe/Berlin:20180513T150000
DTEND;TZID=Europe/Berlin:20180513T164500
LOCATION:
SUMMARY:BK-Gr 4 N/F 17-18: SSV Egenhausen - SG Adelshofen 2 / Hohlach 3
END:VEVENT
BEGIN:VEVENT
UID:20260421T164613CEST-8721l5S4dF@85.13.134.164
DTSTAMP:20260421T144613Z
DESCRIPTION:
DTSTART;TZID=Europe/Berlin:20180527T130000
DTEND;TZID=Europe/Berlin:20180527T144500
LOCATION:
SUMMARY:BK-Gr 4 N/F 17-18: ASV Breitenau 2 - SG Adelshofen 2 / Hohlach 3
END:VEVENT
BEGIN:VEVENT
UID:20260421T164613CEST-8723BmugEL@85.13.134.164
DTSTAMP:20260421T144613Z
DESCRIPTION:
DTSTART;TZID=Europe/Berlin:20180603T130000
DTEND;TZID=Europe/Berlin:20180603T144500
LOCATION:
SUMMARY:BK-Gr 4 N/F 17-18: SG Adelshofen 2 / Hohlach 3 - TSV Marktbergel II
END:VEVENT
BEGIN:VEVENT
UID:20260421T164613CEST-8725TlrXxF@85.13.134.164
DTSTAMP:20260421T144613Z
DESCRIPTION:
DTSTART;TZID=Europe/Berlin:20180609T140000
DTEND;TZID=Europe/Berlin:20180609T154500
LOCATION:
SUMMARY:BK-Gr 4 N/F 17-18: SG Colmberg/​Oberdachstetten II - SG Adelshofen 
 2 / Hohlach 3
END:VEVENT
END:VCALENDAR
