BEGIN:VCALENDAR
VERSION:2.0
PRODID:-//85.13.134.164//NONSGML kigkonsult.se iCalcreator 2.18//
X-WR-TIMEZONE:Europe/Berlin
BEGIN:VTIMEZONE
TZID:Europe/Berlin
X-LIC-LOCATION:Europe/Berlin
BEGIN:STANDARD
DTSTART:20171029T030000
TZOFFSETFROM:+0200
TZOFFSETTO:+0100
RDATE:20181028T030000
TZNAME:CET
END:STANDARD
BEGIN:DAYLIGHT
DTSTART:20180325T020000
TZOFFSETFROM:+0100
TZOFFSETTO:+0200
RDATE:20190331T020000
TZNAME:CEST
END:DAYLIGHT
END:VTIMEZONE
BEGIN:VEVENT
UID:20260421T194100CEST-4357JDAcoT@85.13.134.164
DTSTAMP:20260421T174100Z
DESCRIPTION:
DTSTART;TZID=Europe/Berlin:20170820T150000
DTEND;TZID=Europe/Berlin:20170820T164500
LOCATION:
SUMMARY:KK-Gr 2 N/F 17-18: SG Obernzenn /​ Unteraltenbernheim - SC Trautski
 rchen
END:VEVENT
BEGIN:VEVENT
UID:20260421T194100CEST-4360UVuotJ@85.13.134.164
DTSTAMP:20260421T174100Z
DESCRIPTION:
DTSTART;TZID=Europe/Berlin:20170827T150000
DTEND;TZID=Europe/Berlin:20170827T164500
LOCATION:
SUMMARY:KK-Gr 2 N/F 17-18: SC Trautskirchen - TSV 2000 Rothenburg
END:VEVENT
BEGIN:VEVENT
UID:20260421T194100CEST-4361m0TNV8@85.13.134.164
DTSTAMP:20260421T174100Z
DESCRIPTION:
DTSTART;TZID=Europe/Berlin:20170903T150000
DTEND;TZID=Europe/Berlin:20170903T164500
LOCATION:
SUMMARY:KK-Gr 2 N/F 17-18: SC Trautskirchen - SG Lenkersheim / Bad Windshei
 m
END:VEVENT
BEGIN:VEVENT
UID:20260421T194100CEST-4363o0dl9f@85.13.134.164
DTSTAMP:20260421T174100Z
DESCRIPTION:
DTSTART;TZID=Europe/Berlin:20170910T150000
DTEND;TZID=Europe/Berlin:20170910T164500
LOCATION:
SUMMARY:KK-Gr 2 N/F 17-18: SVV Weigenheim - SC Trautskirchen
END:VEVENT
BEGIN:VEVENT
UID:20260421T194100CEST-4365GaLgg2@85.13.134.164
DTSTAMP:20260421T174100Z
DESCRIPTION:
DTSTART;TZID=Europe/Berlin:20170916T160000
DTEND;TZID=Europe/Berlin:20170916T174500
LOCATION:
SUMMARY:KK-Gr 2 N/F 17-18: SC Trautskirchen - TSV Flachslanden 
END:VEVENT
BEGIN:VEVENT
UID:20260421T194100CEST-4368eoPBHd@85.13.134.164
DTSTAMP:20260421T174100Z
DESCRIPTION:
DTSTART;TZID=Europe/Berlin:20170924T150000
DTEND;TZID=Europe/Berlin:20170924T164500
LOCATION:
SUMMARY:KK-Gr 2 N/F 17-18: TSV Lehrberg - SC Trautskirchen
END:VEVENT
BEGIN:VEVENT
UID:20260421T194100CEST-4369oHLwR7@85.13.134.164
DTSTAMP:20260421T174100Z
DESCRIPTION:
DTSTART;TZID=Europe/Berlin:20171001T150000
DTEND;TZID=Europe/Berlin:20171001T164500
LOCATION:
SUMMARY:KK-Gr 2 N/F 17-18: SC Trautskirchen - VfB Franken Schillingsfürst
END:VEVENT
BEGIN:VEVENT
UID:20260421T194100CEST-4371f7B8hi@85.13.134.164
DTSTAMP:20260421T174100Z
DESCRIPTION:
DTSTART;TZID=Europe/Berlin:20171003T150000
DTEND;TZID=Europe/Berlin:20171003T164500
LOCATION:
SUMMARY:KK-Gr 2 N/F 17-18: TSV Marktbergel - SC Trautskirchen
END:VEVENT
BEGIN:VEVENT
UID:20260421T194100CEST-4373VuOxev@85.13.134.164
DTSTAMP:20260421T174100Z
DESCRIPTION:
DTSTART;TZID=Europe/Berlin:20171008T150000
DTEND;TZID=Europe/Berlin:20171008T164500
LOCATION:
SUMMARY:KK-Gr 2 N/F 17-18: SC Trautskirchen - TSV Langenfeld
END:VEVENT
BEGIN:VEVENT
UID:20260421T194100CEST-4375NmTvK6@85.13.134.164
DTSTAMP:20260421T174100Z
DESCRIPTION:
DTSTART;TZID=Europe/Berlin:20171015T150000
DTEND;TZID=Europe/Berlin:20171015T164500
LOCATION:
SUMMARY:KK-Gr 2 N/F 17-18: SV Schalkhausen - SC Trautskirchen
END:VEVENT
BEGIN:VEVENT
UID:20260421T194100CEST-4377JTPLAw@85.13.134.164
DTSTAMP:20260421T174100Z
DESCRIPTION:
DTSTART;TZID=Europe/Berlin:20171022T150000
DTEND;TZID=Europe/Berlin:20171022T164500
LOCATION:
SUMMARY:KK-Gr 2 N/F 17-18: SC Trautskirchen - SG Gallmersgarten/​Gebsattel 
END:VEVENT
BEGIN:VEVENT
UID:20260421T194100CEST-4379xXliJP@85.13.134.164
DTSTAMP:20260421T174100Z
DESCRIPTION:
DTSTART;TZID=Europe/Berlin:20171029T150000
DTEND;TZID=Europe/Berlin:20171029T164500
LOCATION:
SUMMARY:KK-Gr 2 N/F 17-18: Hohlacher SV - SC Trautskirchen
END:VEVENT
BEGIN:VEVENT
UID:20260421T194100CEST-4381Ju56om@85.13.134.164
DTSTAMP:20260421T174100Z
DESCRIPTION:
DTSTART;TZID=Europe/Berlin:20171105T143000
DTEND;TZID=Europe/Berlin:20171105T161500
LOCATION:
SUMMARY:KK-Gr 2 N/F 17-18: SC Trautskirchen - TV 1862 Leutershausen
END:VEVENT
BEGIN:VEVENT
UID:20260421T194100CEST-4383LUmXOd@85.13.134.164
DTSTAMP:20260421T174100Z
DESCRIPTION:
DTSTART;TZID=Europe/Berlin:20180331T160000
DTEND;TZID=Europe/Berlin:20180331T174500
LOCATION:
SUMMARY:KK-Gr 2 N/F 17-18: SC Trautskirchen - SG Obernzenn /​ Unteraltenber
 nheim
END:VEVENT
BEGIN:VEVENT
UID:20260421T194100CEST-4385LvoD7K@85.13.134.164
DTSTAMP:20260421T174100Z
DESCRIPTION:
DTSTART;TZID=Europe/Berlin:20171118T173000
DTEND;TZID=Europe/Berlin:20171118T191500
LOCATION:
SUMMARY:KK-Gr 2 N/F 17-18: TSV 2000 Rothenburg - SC Trautskirchen
END:VEVENT
BEGIN:VEVENT
UID:20260421T194100CEST-4387mXma5m@85.13.134.164
DTSTAMP:20260421T174100Z
DESCRIPTION:Pappelstadion
DTSTART;TZID=Europe/Berlin:20180519T160000
DTEND;TZID=Europe/Berlin:20180519T174500
LOCATION:\,  Lenkersheim
SUMMARY:KK-Gr 2 N/F 17-18: SG Lenkersheim / Bad Windsheim - SC Trautskirche
 n
END:VEVENT
BEGIN:VEVENT
UID:20260421T194100CEST-43899Oxux3@85.13.134.164
DTSTAMP:20260421T174100Z
DESCRIPTION:
DTSTART;TZID=Europe/Berlin:20180325T150000
DTEND;TZID=Europe/Berlin:20180325T164500
LOCATION:
SUMMARY:KK-Gr 2 N/F 17-18: SC Trautskirchen - SVV Weigenheim
END:VEVENT
BEGIN:VEVENT
UID:20260421T194100CEST-4391ZiuTft@85.13.134.164
DTSTAMP:20260421T174100Z
DESCRIPTION:
DTSTART;TZID=Europe/Berlin:20180408T150000
DTEND;TZID=Europe/Berlin:20180408T164500
LOCATION:
SUMMARY:KK-Gr 2 N/F 17-18: TSV Flachslanden  - SC Trautskirchen
END:VEVENT
BEGIN:VEVENT
UID:20260421T194100CEST-43937Wf1hW@85.13.134.164
DTSTAMP:20260421T174100Z
DESCRIPTION:
DTSTART;TZID=Europe/Berlin:20180415T150000
DTEND;TZID=Europe/Berlin:20180415T164500
LOCATION:
SUMMARY:KK-Gr 2 N/F 17-18: SC Trautskirchen - TSV Lehrberg
END:VEVENT
BEGIN:VEVENT
UID:20260421T194100CEST-43952ScSiE@85.13.134.164
DTSTAMP:20260421T174100Z
DESCRIPTION:
DTSTART;TZID=Europe/Berlin:20180422T150000
DTEND;TZID=Europe/Berlin:20180422T164500
LOCATION:
SUMMARY:KK-Gr 2 N/F 17-18: VfB Franken Schillingsfürst - SC Trautskirchen
END:VEVENT
BEGIN:VEVENT
UID:20260421T194100CEST-4397eCuduc@85.13.134.164
DTSTAMP:20260421T174100Z
DESCRIPTION:
DTSTART;TZID=Europe/Berlin:20180429T150000
DTEND;TZID=Europe/Berlin:20180429T164500
LOCATION:
SUMMARY:KK-Gr 2 N/F 17-18: SC Trautskirchen - TSV Marktbergel
END:VEVENT
BEGIN:VEVENT
UID:20260421T194100CEST-4399Tvk1UU@85.13.134.164
DTSTAMP:20260421T174100Z
DESCRIPTION:
DTSTART;TZID=Europe/Berlin:20180506T150000
DTEND;TZID=Europe/Berlin:20180506T164500
LOCATION:
SUMMARY:KK-Gr 2 N/F 17-18: TSV Langenfeld - SC Trautskirchen
END:VEVENT
BEGIN:VEVENT
UID:20260421T194100CEST-44012ruPAb@85.13.134.164
DTSTAMP:20260421T174100Z
DESCRIPTION:
DTSTART;TZID=Europe/Berlin:20180513T150000
DTEND;TZID=Europe/Berlin:20180513T164500
LOCATION:
SUMMARY:KK-Gr 2 N/F 17-18: SC Trautskirchen - SV Schalkhausen
END:VEVENT
BEGIN:VEVENT
UID:20260421T194100CEST-4403uU3Dp7@85.13.134.164
DTSTAMP:20260421T174100Z
DESCRIPTION:
DTSTART;TZID=Europe/Berlin:20180527T150000
DTEND;TZID=Europe/Berlin:20180527T164500
LOCATION:
SUMMARY:KK-Gr 2 N/F 17-18: SG Gallmersgarten/​Gebsattel  - SC Trautskirchen
END:VEVENT
BEGIN:VEVENT
UID:20260421T194100CEST-4405KrgOzU@85.13.134.164
DTSTAMP:20260421T174100Z
DESCRIPTION:
DTSTART;TZID=Europe/Berlin:20180603T150000
DTEND;TZID=Europe/Berlin:20180603T164500
LOCATION:
SUMMARY:KK-Gr 2 N/F 17-18: SC Trautskirchen - Hohlacher SV
END:VEVENT
BEGIN:VEVENT
UID:20260421T194100CEST-4407wXPZUi@85.13.134.164
DTSTAMP:20260421T174100Z
DESCRIPTION:
DTSTART;TZID=Europe/Berlin:20180609T160000
DTEND;TZID=Europe/Berlin:20180609T174500
LOCATION:
SUMMARY:KK-Gr 2 N/F 17-18: TV 1862 Leutershausen - SC Trautskirchen
END:VEVENT
END:VCALENDAR
