BEGIN:VCALENDAR
VERSION:2.0
PRODID:-//85.13.134.164//NONSGML kigkonsult.se iCalcreator 2.18//
X-WR-TIMEZONE:Europe/Berlin
BEGIN:VTIMEZONE
TZID:Europe/Berlin
X-LIC-LOCATION:Europe/Berlin
BEGIN:STANDARD
DTSTART:20161030T030000
TZOFFSETFROM:+0200
TZOFFSETTO:+0100
RDATE:20171029T030000
TZNAME:CET
END:STANDARD
BEGIN:DAYLIGHT
DTSTART:20170326T020000
TZOFFSETFROM:+0100
TZOFFSETTO:+0200
RDATE:20180325T020000
TZNAME:CEST
END:DAYLIGHT
END:VTIMEZONE
BEGIN:VEVENT
UID:20260421T195254CEST-82754vZNUu@85.13.134.164
DTSTAMP:20260421T175254Z
DESCRIPTION:
DTSTART;TZID=Europe/Berlin:20160821T130000
DTEND;TZID=Europe/Berlin:20160821T144500
LOCATION:
SUMMARY:BK-Gr 5 N/F 16-17: DTV Diespeck II - SV Ickelheim
END:VEVENT
BEGIN:VEVENT
UID:20260421T195254CEST-8277lloJ7T@85.13.134.164
DTSTAMP:20260421T175254Z
DESCRIPTION:Pappelstadion
DTSTART;TZID=Europe/Berlin:20160828T130000
DTEND;TZID=Europe/Berlin:20160828T144500
LOCATION:\,  Lenkersheim
SUMMARY:BK-Gr 5 N/F 16-17: SG Lenkersheim / Bad Windsheim II - DTV Diespeck
  II
END:VEVENT
BEGIN:VEVENT
UID:20260421T195254CEST-82795T6vNC@85.13.134.164
DTSTAMP:20260421T175254Z
DESCRIPTION:
DTSTART;TZID=Europe/Berlin:20160904T130000
DTEND;TZID=Europe/Berlin:20160904T144500
LOCATION:
SUMMARY:BK-Gr 5 N/F 16-17: DTV Diespeck II - SpVgg Markt Baudenbach
END:VEVENT
BEGIN:VEVENT
UID:20260421T195254CEST-8280uUtGru@85.13.134.164
DTSTAMP:20260421T175254Z
DESCRIPTION:
DTSTART;TZID=Europe/Berlin:20160911T130000
DTEND;TZID=Europe/Berlin:20160911T144500
LOCATION:
SUMMARY:BK-Gr 5 N/F 16-17: SG Sugenheim/Langenfeld/Bibart II - DTV Diespeck
  II
END:VEVENT
BEGIN:VEVENT
UID:20260421T195254CEST-8282NX54wh@85.13.134.164
DTSTAMP:20260421T175254Z
DESCRIPTION:
DTSTART;TZID=Europe/Berlin:20161006T190000
DTEND;TZID=Europe/Berlin:20161006T204500
LOCATION:
SUMMARY:BK-Gr 5 N/F 16-17: DTV Diespeck II - SpVgg Steinachgrund II
END:VEVENT
BEGIN:VEVENT
UID:20260421T195254CEST-82845n2S9l@85.13.134.164
DTSTAMP:20260421T175254Z
DESCRIPTION:
DTSTART;TZID=Europe/Berlin:20160925T130000
DTEND;TZID=Europe/Berlin:20160925T144500
LOCATION:
SUMMARY:BK-Gr 5 N/F 16-17: SV Steigerwald-Münchsteinach 2 - DTV Diespeck II
END:VEVENT
BEGIN:VEVENT
UID:20260421T195254CEST-8286e0auR0@85.13.134.164
DTSTAMP:20260421T175254Z
DESCRIPTION:
DTSTART;TZID=Europe/Berlin:20161101T123000
DTEND;TZID=Europe/Berlin:20161101T141500
LOCATION:
SUMMARY:BK-Gr 5 N/F 16-17: DTV Diespeck II - SG FC Schauerheim II /​SC Diet
 ersheim II
END:VEVENT
BEGIN:VEVENT
UID:20260421T195254CEST-8288H7oMxD@85.13.134.164
DTSTAMP:20260421T175254Z
DESCRIPTION:
DTSTART;TZID=Europe/Berlin:20161003T150000
DTEND;TZID=Europe/Berlin:20161003T164500
LOCATION:
SUMMARY:BK-Gr 5 N/F 16-17: FSV Ipsheim - DTV Diespeck II
END:VEVENT
BEGIN:VEVENT
UID:20260421T195254CEST-829065ljs7@85.13.134.164
DTSTAMP:20260421T175254Z
DESCRIPTION:
DTSTART;TZID=Europe/Berlin:20161009T130000
DTEND;TZID=Europe/Berlin:20161009T144500
LOCATION:
SUMMARY:BK-Gr 5 N/F 16-17: DTV Diespeck II - SG Obernzenn /​ Unteraltenbern
 heim II
END:VEVENT
BEGIN:VEVENT
UID:20260421T195254CEST-8291AE5WKX@85.13.134.164
DTSTAMP:20260421T175254Z
DESCRIPTION:
DTSTART;TZID=Europe/Berlin:20161016T130000
DTEND;TZID=Europe/Berlin:20161016T144500
LOCATION:
SUMMARY:BK-Gr 5 N/F 16-17: TSV Marktbergel II - DTV Diespeck II
END:VEVENT
BEGIN:VEVENT
UID:20260421T195254CEST-8293RKsZnp@85.13.134.164
DTSTAMP:20260421T175254Z
DESCRIPTION:
DTSTART;TZID=Europe/Berlin:20161022T140000
DTEND;TZID=Europe/Berlin:20161022T154500
LOCATION:
SUMMARY:BK-Gr 5 N/F 16-17: DTV Diespeck II - SG Franken/TSV Neustadt Aisch 
 II
END:VEVENT
BEGIN:VEVENT
UID:20260421T195254CEST-8295kV6V2V@85.13.134.164
DTSTAMP:20260421T175254Z
DESCRIPTION:
DTSTART;TZID=Europe/Berlin:20161030T130000
DTEND;TZID=Europe/Berlin:20161030T144500
LOCATION:
SUMMARY:BK-Gr 5 N/F 16-17: DTV Diespeck II - FC Dachsbach-Birnbaum II
END:VEVENT
BEGIN:VEVENT
UID:20260421T195254CEST-8297ZRvl00@85.13.134.164
DTSTAMP:20260421T175254Z
DESCRIPTION:
DTSTART;TZID=Europe/Berlin:20161113T143000
DTEND;TZID=Europe/Berlin:20161113T161500
LOCATION:
SUMMARY:BK-Gr 5 N/F 16-17: SV Ickelheim - DTV Diespeck II
END:VEVENT
BEGIN:VEVENT
UID:20260421T195254CEST-8299KgnVcV@85.13.134.164
DTSTAMP:20260421T175254Z
DESCRIPTION:
DTSTART;TZID=Europe/Berlin:20161127T123000
DTEND;TZID=Europe/Berlin:20161127T141500
LOCATION:
SUMMARY:BK-Gr 5 N/F 16-17: DTV Diespeck II - SG Lenkersheim / Bad Windsheim
  II
END:VEVENT
BEGIN:VEVENT
UID:20260421T195254CEST-8301IVzzbB@85.13.134.164
DTSTAMP:20260421T175254Z
DESCRIPTION:
DTSTART;TZID=Europe/Berlin:20170319T150000
DTEND;TZID=Europe/Berlin:20170319T164500
LOCATION:
SUMMARY:BK-Gr 5 N/F 16-17: SpVgg Markt Baudenbach - DTV Diespeck II
END:VEVENT
BEGIN:VEVENT
UID:20260421T195254CEST-8302nFVMrw@85.13.134.164
DTSTAMP:20260421T175254Z
DESCRIPTION:
DTSTART;TZID=Europe/Berlin:20170326T130000
DTEND;TZID=Europe/Berlin:20170326T144500
LOCATION:
SUMMARY:BK-Gr 5 N/F 16-17: DTV Diespeck II - SG Sugenheim/Langenfeld/Bibart
  II
END:VEVENT
BEGIN:VEVENT
UID:20260421T195254CEST-8304aUgf03@85.13.134.164
DTSTAMP:20260421T175254Z
DESCRIPTION:
DTSTART;TZID=Europe/Berlin:20170402T130000
DTEND;TZID=Europe/Berlin:20170402T144500
LOCATION:
SUMMARY:BK-Gr 5 N/F 16-17: SpVgg Steinachgrund II - DTV Diespeck II
END:VEVENT
BEGIN:VEVENT
UID:20260421T195254CEST-8306TOXvss@85.13.134.164
DTSTAMP:20260421T175254Z
DESCRIPTION:
DTSTART;TZID=Europe/Berlin:20170409T130000
DTEND;TZID=Europe/Berlin:20170409T144500
LOCATION:
SUMMARY:BK-Gr 5 N/F 16-17: DTV Diespeck II - SV Steigerwald-Münchsteinach 2
END:VEVENT
BEGIN:VEVENT
UID:20260421T195254CEST-8308gUzUXw@85.13.134.164
DTSTAMP:20260421T175254Z
DESCRIPTION:
DTSTART;TZID=Europe/Berlin:20170423T130000
DTEND;TZID=Europe/Berlin:20170423T144500
LOCATION:
SUMMARY:BK-Gr 5 N/F 16-17: SG FC Schauerheim II /​SC Dietersheim II - DTV D
 iespeck II
END:VEVENT
BEGIN:VEVENT
UID:20260421T195254CEST-8310cdP7kU@85.13.134.164
DTSTAMP:20260421T175254Z
DESCRIPTION:
DTSTART;TZID=Europe/Berlin:20170430T130000
DTEND;TZID=Europe/Berlin:20170430T144500
LOCATION:
SUMMARY:BK-Gr 5 N/F 16-17: DTV Diespeck II - FSV Ipsheim
END:VEVENT
BEGIN:VEVENT
UID:20260421T195254CEST-8311HjGzIw@85.13.134.164
DTSTAMP:20260421T175254Z
DESCRIPTION:
DTSTART;TZID=Europe/Berlin:20170507T130000
DTEND;TZID=Europe/Berlin:20170507T144500
LOCATION:
SUMMARY:BK-Gr 5 N/F 16-17: SG Obernzenn /​ Unteraltenbernheim II - DTV Dies
 peck II
END:VEVENT
BEGIN:VEVENT
UID:20260421T195254CEST-8313vw25VM@85.13.134.164
DTSTAMP:20260421T175254Z
DESCRIPTION:
DTSTART;TZID=Europe/Berlin:20170514T130000
DTEND;TZID=Europe/Berlin:20170514T144500
LOCATION:
SUMMARY:BK-Gr 5 N/F 16-17: DTV Diespeck II - TSV Marktbergel II
END:VEVENT
BEGIN:VEVENT
UID:20260421T195254CEST-8315wZs0vm@85.13.134.164
DTSTAMP:20260421T175254Z
DESCRIPTION:
DTSTART;TZID=Europe/Berlin:20170521T130000
DTEND;TZID=Europe/Berlin:20170521T144500
LOCATION:
SUMMARY:BK-Gr 5 N/F 16-17: SG Franken/TSV Neustadt Aisch II - DTV Diespeck 
 II
END:VEVENT
BEGIN:VEVENT
UID:20260421T195254CEST-8317khvtTu@85.13.134.164
DTSTAMP:20260421T175254Z
DESCRIPTION:
DTSTART;TZID=Europe/Berlin:20170528T130000
DTEND;TZID=Europe/Berlin:20170528T144500
LOCATION:
SUMMARY:BK-Gr 5 N/F 16-17: FC Dachsbach-Birnbaum II - DTV Diespeck II
END:VEVENT
END:VCALENDAR
