BEGIN:VCALENDAR
VERSION:2.0
PRODID:-//85.13.134.164//NONSGML kigkonsult.se iCalcreator 2.18//
X-WR-TIMEZONE:Europe/Berlin
BEGIN:VTIMEZONE
TZID:Europe/Berlin
X-LIC-LOCATION:Europe/Berlin
BEGIN:STANDARD
DTSTART:20161030T030000
TZOFFSETFROM:+0200
TZOFFSETTO:+0100
RDATE:20171029T030000
TZNAME:CET
END:STANDARD
BEGIN:DAYLIGHT
DTSTART:20170326T020000
TZOFFSETFROM:+0100
TZOFFSETTO:+0200
RDATE:20180325T020000
TZNAME:CEST
END:DAYLIGHT
END:VTIMEZONE
BEGIN:VEVENT
UID:20260420T051219CEST-4736VOWrr9@85.13.134.164
DTSTAMP:20260420T031219Z
DESCRIPTION:
DTSTART;TZID=Europe/Berlin:20160821T150000
DTEND;TZID=Europe/Berlin:20160821T164500
LOCATION:
SUMMARY:AK-Gr 4 N/F 16-17: SVV Weigenheim II - ASV Breitenau
END:VEVENT
BEGIN:VEVENT
UID:20260420T051219CEST-473818wSSh@85.13.134.164
DTSTAMP:20260420T031219Z
DESCRIPTION:
DTSTART;TZID=Europe/Berlin:20160828T150000
DTEND;TZID=Europe/Berlin:20160828T164500
LOCATION:
SUMMARY:AK-Gr 4 N/F 16-17: SVV Weigenheim II -  1.FV Uffenheim II
END:VEVENT
BEGIN:VEVENT
UID:20260420T051219CEST-4740VhISpe@85.13.134.164
DTSTAMP:20260420T031219Z
DESCRIPTION:
DTSTART;TZID=Europe/Berlin:20160904T150000
DTEND;TZID=Europe/Berlin:20160904T164500
LOCATION:
SUMMARY:AK-Gr 4 N/F 16-17: TSV Burgbernheim - SVV Weigenheim II
END:VEVENT
BEGIN:VEVENT
UID:20260420T051219CEST-4741nAnl61@85.13.134.164
DTSTAMP:20260420T031219Z
DESCRIPTION:
DTSTART;TZID=Europe/Berlin:20160911T130000
DTEND;TZID=Europe/Berlin:20160911T144500
LOCATION:
SUMMARY:AK-Gr 4 N/F 16-17: SVV Weigenheim II - SSV Egenhausen
END:VEVENT
BEGIN:VEVENT
UID:20260420T051219CEST-47437uvsB2@85.13.134.164
DTSTAMP:20260420T031219Z
DESCRIPTION:Pappelstadion
DTSTART;TZID=Europe/Berlin:20160918T150000
DTEND;TZID=Europe/Berlin:20160918T164500
LOCATION:\,  Lenkersheim
SUMMARY:AK-Gr 4 N/F 16-17: SG Lenkersheim / Bad Windsheim - SVV Weigenheim 
 II
END:VEVENT
BEGIN:VEVENT
UID:20260420T051219CEST-4745TsXNLx@85.13.134.164
DTSTAMP:20260420T031219Z
DESCRIPTION:
DTSTART;TZID=Europe/Berlin:20160925T150000
DTEND;TZID=Europe/Berlin:20160925T164500
LOCATION:
SUMMARY:AK-Gr 4 N/F 16-17: SV Insingen - SVV Weigenheim II
END:VEVENT
BEGIN:VEVENT
UID:20260420T051219CEST-4747tRvFNd@85.13.134.164
DTSTAMP:20260420T031219Z
DESCRIPTION:
DTSTART;TZID=Europe/Berlin:20161001T160000
DTEND;TZID=Europe/Berlin:20161001T174500
LOCATION:
SUMMARY:AK-Gr 4 N/F 16-17: FC Erzberg-Wörnitz - SVV Weigenheim II
END:VEVENT
BEGIN:VEVENT
UID:20260420T051219CEST-4749OVRGUV@85.13.134.164
DTSTAMP:20260420T031219Z
DESCRIPTION:
DTSTART;TZID=Europe/Berlin:20161003T150000
DTEND;TZID=Europe/Berlin:20161003T164500
LOCATION:
SUMMARY:AK-Gr 4 N/F 16-17: SpVgg Gallmersgarten - SVV Weigenheim II
END:VEVENT
BEGIN:VEVENT
UID:20260420T051219CEST-4751Du39lV@85.13.134.164
DTSTAMP:20260420T031219Z
DESCRIPTION:
DTSTART;TZID=Europe/Berlin:20161009T130000
DTEND;TZID=Europe/Berlin:20161009T144500
LOCATION:
SUMMARY:AK-Gr 4 N/F 16-17: SVV Weigenheim II - SV Ergersheim
END:VEVENT
BEGIN:VEVENT
UID:20260420T051219CEST-47526MGOIj@85.13.134.164
DTSTAMP:20260420T031219Z
DESCRIPTION:
DTSTART;TZID=Europe/Berlin:20161016T150000
DTEND;TZID=Europe/Berlin:20161016T164500
LOCATION:
SUMMARY:AK-Gr 4 N/F 16-17: SC Adelshofen - SVV Weigenheim II
END:VEVENT
BEGIN:VEVENT
UID:20260420T051219CEST-47545mUkD8@85.13.134.164
DTSTAMP:20260420T031219Z
DESCRIPTION:
DTSTART;TZID=Europe/Berlin:20161023T130000
DTEND;TZID=Europe/Berlin:20161023T144500
LOCATION:
SUMMARY:AK-Gr 4 N/F 16-17: SVV Weigenheim II - TSV Lehrberg 2
END:VEVENT
BEGIN:VEVENT
UID:20260420T051219CEST-4756jU6voh@85.13.134.164
DTSTAMP:20260420T031219Z
DESCRIPTION:
DTSTART;TZID=Europe/Berlin:20161030T150000
DTEND;TZID=Europe/Berlin:20161030T164500
LOCATION:
SUMMARY:AK-Gr 4 N/F 16-17: SG Colmberg/​Oberdachstetten I  - SVV Weigenheim
  II
END:VEVENT
BEGIN:VEVENT
UID:20260420T051219CEST-47585GUlzd@85.13.134.164
DTSTAMP:20260420T031219Z
DESCRIPTION:
DTSTART;TZID=Europe/Berlin:20161106T143000
DTEND;TZID=Europe/Berlin:20161106T161500
LOCATION:
SUMMARY:AK-Gr 4 N/F 16-17: SVV Weigenheim II - TSV Rothenburg II
END:VEVENT
BEGIN:VEVENT
UID:20260420T051219CEST-4760RNLaWn@85.13.134.164
DTSTAMP:20260420T031219Z
DESCRIPTION:
DTSTART;TZID=Europe/Berlin:20170407T183000
DTEND;TZID=Europe/Berlin:20170407T201500
LOCATION:
SUMMARY:AK-Gr 4 N/F 16-17: ASV Breitenau - SVV Weigenheim II
END:VEVENT
BEGIN:VEVENT
UID:20260420T051219CEST-47622uXUai@85.13.134.164
DTSTAMP:20260420T031219Z
DESCRIPTION:
DTSTART;TZID=Europe/Berlin:20161127T143000
DTEND;TZID=Europe/Berlin:20161127T161500
LOCATION:
SUMMARY:AK-Gr 4 N/F 16-17:  1.FV Uffenheim II - SVV Weigenheim II
END:VEVENT
BEGIN:VEVENT
UID:20260420T051219CEST-4763dx24O0@85.13.134.164
DTSTAMP:20260420T031219Z
DESCRIPTION:
DTSTART;TZID=Europe/Berlin:20170319T130000
DTEND;TZID=Europe/Berlin:20170319T144500
LOCATION:
SUMMARY:AK-Gr 4 N/F 16-17: SVV Weigenheim II - TSV Burgbernheim
END:VEVENT
BEGIN:VEVENT
UID:20260420T051219CEST-4765UX8CTA@85.13.134.164
DTSTAMP:20260420T031219Z
DESCRIPTION:
DTSTART;TZID=Europe/Berlin:20170326T150000
DTEND;TZID=Europe/Berlin:20170326T164500
LOCATION:
SUMMARY:AK-Gr 4 N/F 16-17: SSV Egenhausen - SVV Weigenheim II
END:VEVENT
BEGIN:VEVENT
UID:20260420T051219CEST-4767RLNfvp@85.13.134.164
DTSTAMP:20260420T031219Z
DESCRIPTION:
DTSTART;TZID=Europe/Berlin:20170402T130000
DTEND;TZID=Europe/Berlin:20170402T144500
LOCATION:
SUMMARY:AK-Gr 4 N/F 16-17: SVV Weigenheim II - SG Lenkersheim / Bad Windshe
 im
END:VEVENT
BEGIN:VEVENT
UID:20260420T051219CEST-4769TuUEUM@85.13.134.164
DTSTAMP:20260420T031219Z
DESCRIPTION:
DTSTART;TZID=Europe/Berlin:20170409T130000
DTEND;TZID=Europe/Berlin:20170409T144500
LOCATION:
SUMMARY:AK-Gr 4 N/F 16-17: SVV Weigenheim II - SV Insingen
END:VEVENT
BEGIN:VEVENT
UID:20260420T051219CEST-4771DLvgUL@85.13.134.164
DTSTAMP:20260420T031219Z
DESCRIPTION:
DTSTART;TZID=Europe/Berlin:20170423T130000
DTEND;TZID=Europe/Berlin:20170423T144500
LOCATION:
SUMMARY:AK-Gr 4 N/F 16-17: SVV Weigenheim II - FC Erzberg-Wörnitz
END:VEVENT
BEGIN:VEVENT
UID:20260420T051219CEST-4772Bs16Rc@85.13.134.164
DTSTAMP:20260420T031219Z
DESCRIPTION:
DTSTART;TZID=Europe/Berlin:20170430T130000
DTEND;TZID=Europe/Berlin:20170430T144500
LOCATION:
SUMMARY:AK-Gr 4 N/F 16-17: SVV Weigenheim II - SpVgg Gallmersgarten
END:VEVENT
BEGIN:VEVENT
UID:20260420T051219CEST-4774A2RvCa@85.13.134.164
DTSTAMP:20260420T031219Z
DESCRIPTION:
DTSTART;TZID=Europe/Berlin:20170507T150000
DTEND;TZID=Europe/Berlin:20170507T164500
LOCATION:
SUMMARY:AK-Gr 4 N/F 16-17: SV Ergersheim - SVV Weigenheim II
END:VEVENT
BEGIN:VEVENT
UID:20260420T051219CEST-4776REj2nr@85.13.134.164
DTSTAMP:20260420T031219Z
DESCRIPTION:
DTSTART;TZID=Europe/Berlin:20170514T130000
DTEND;TZID=Europe/Berlin:20170514T144500
LOCATION:
SUMMARY:AK-Gr 4 N/F 16-17: SVV Weigenheim II - SC Adelshofen
END:VEVENT
BEGIN:VEVENT
UID:20260420T051219CEST-47780o9TGK@85.13.134.164
DTSTAMP:20260420T031219Z
DESCRIPTION:
DTSTART;TZID=Europe/Berlin:20170521T130000
DTEND;TZID=Europe/Berlin:20170521T144500
LOCATION:
SUMMARY:AK-Gr 4 N/F 16-17: TSV Lehrberg 2 - SVV Weigenheim II
END:VEVENT
BEGIN:VEVENT
UID:20260420T051219CEST-4780GdOHfv@85.13.134.164
DTSTAMP:20260420T031219Z
DESCRIPTION:
DTSTART;TZID=Europe/Berlin:20170528T130000
DTEND;TZID=Europe/Berlin:20170528T144500
LOCATION:
SUMMARY:AK-Gr 4 N/F 16-17: SVV Weigenheim II - SG Colmberg/​Oberdachstetten
  I 
END:VEVENT
BEGIN:VEVENT
UID:20260420T051219CEST-4782UGvuAC@85.13.134.164
DTSTAMP:20260420T031219Z
DESCRIPTION:
DTSTART;TZID=Europe/Berlin:20170603T140000
DTEND;TZID=Europe/Berlin:20170603T154500
LOCATION:
SUMMARY:AK-Gr 4 N/F 16-17: TSV Rothenburg II - SVV Weigenheim II
END:VEVENT
END:VCALENDAR
