BEGIN:VCALENDAR
VERSION:2.0
PRODID:-//85.13.134.164//NONSGML kigkonsult.se iCalcreator 2.18//
X-WR-TIMEZONE:Europe/Berlin
BEGIN:VTIMEZONE
TZID:Europe/Berlin
X-LIC-LOCATION:Europe/Berlin
BEGIN:STANDARD
DTSTART:20141026T030000
TZOFFSETFROM:+0200
TZOFFSETTO:+0100
RDATE:20151025T030000
TZNAME:CET
END:STANDARD
BEGIN:DAYLIGHT
DTSTART:20150329T020000
TZOFFSETFROM:+0100
TZOFFSETTO:+0200
RDATE:20160327T020000
TZNAME:CEST
END:DAYLIGHT
END:VTIMEZONE
BEGIN:VEVENT
UID:20260420T085155CEST-6220xo9h2Z@85.13.134.164
DTSTAMP:20260420T065155Z
DESCRIPTION:
DTSTART;TZID=Europe/Berlin:20140817T140000
DTEND;TZID=Europe/Berlin:20140817T154500
LOCATION:
SUMMARY:KK-Gr 3 N/F 14/15: TSV Wilhermsdorf - TSV Emskirchen
END:VEVENT
BEGIN:VEVENT
UID:20260420T085155CEST-62222SfhwL@85.13.134.164
DTSTAMP:20260420T065155Z
DESCRIPTION:
DTSTART;TZID=Europe/Berlin:20140824T110000
DTEND;TZID=Europe/Berlin:20140824T124500
LOCATION:
SUMMARY:KK-Gr 3 N/F 14/15: Dergahspor Nürnberg II - TSV Wilhermsdorf
END:VEVENT
BEGIN:VEVENT
UID:20260420T085155CEST-62241fu4EI@85.13.134.164
DTSTAMP:20260420T065155Z
DESCRIPTION:
DTSTART;TZID=Europe/Berlin:20140831T150000
DTEND;TZID=Europe/Berlin:20140831T164500
LOCATION:
SUMMARY:KK-Gr 3 N/F 14/15: TSV Wilhermsdorf - Sportfreunde Laubendorf
END:VEVENT
BEGIN:VEVENT
UID:20260420T085155CEST-6227UUXKth@85.13.134.164
DTSTAMP:20260420T065155Z
DESCRIPTION:
DTSTART;TZID=Europe/Berlin:20140907T150000
DTEND;TZID=Europe/Berlin:20140907T164500
LOCATION:
SUMMARY:KK-Gr 3 N/F 14/15: TSV Neustadt / Aisch II - TSV Wilhermsdorf
END:VEVENT
BEGIN:VEVENT
UID:20260420T085155CEST-6228mcNJah@85.13.134.164
DTSTAMP:20260420T065155Z
DESCRIPTION:
DTSTART;TZID=Europe/Berlin:20141002T190000
DTEND;TZID=Europe/Berlin:20141002T204500
LOCATION:
SUMMARY:KK-Gr 3 N/F 14/15: SV Burggrafenhof - TSV Wilhermsdorf
END:VEVENT
BEGIN:VEVENT
UID:20260420T085155CEST-6230cK3RTm@85.13.134.164
DTSTAMP:20260420T065155Z
DESCRIPTION:
DTSTART;TZID=Europe/Berlin:20140921T150000
DTEND;TZID=Europe/Berlin:20140921T164500
LOCATION:
SUMMARY:KK-Gr 3 N/F 14/15: TSV Wilhermsdorf - TSV Obernzenn
END:VEVENT
BEGIN:VEVENT
UID:20260420T085155CEST-6232jgvrp1@85.13.134.164
DTSTAMP:20260420T065155Z
DESCRIPTION:
DTSTART;TZID=Europe/Berlin:20140928T150000
DTEND;TZID=Europe/Berlin:20140928T164500
LOCATION:
SUMMARY:KK-Gr 3 N/F 14/15: TSV Langenzenn - TSV Wilhermsdorf
END:VEVENT
BEGIN:VEVENT
UID:20260420T085155CEST-6234klR72f@85.13.134.164
DTSTAMP:20260420T065155Z
DESCRIPTION:
DTSTART;TZID=Europe/Berlin:20141005T150000
DTEND;TZID=Europe/Berlin:20141005T164500
LOCATION:
SUMMARY:KK-Gr 3 N/F 14/15: TSV Wilhermsdorf - ASV Veitsbronn-Sieg. II
END:VEVENT
BEGIN:VEVENT
UID:20260420T085155CEST-6235PEP6XJ@85.13.134.164
DTSTAMP:20260420T065155Z
DESCRIPTION:
DTSTART;TZID=Europe/Berlin:20141012T130000
DTEND;TZID=Europe/Berlin:20141012T144500
LOCATION:
SUMMARY:KK-Gr 3 N/F 14/15: DTV Diespeck - TSV Wilhermsdorf
END:VEVENT
BEGIN:VEVENT
UID:20260420T085155CEST-6238OVoI5c@85.13.134.164
DTSTAMP:20260420T065155Z
DESCRIPTION:
DTSTART;TZID=Europe/Berlin:20141019T150000
DTEND;TZID=Europe/Berlin:20141019T164500
LOCATION:
SUMMARY:KK-Gr 3 N/F 14/15: TSV Wilhermsdorf - SpVgg Steinachgrund
END:VEVENT
BEGIN:VEVENT
UID:20260420T085155CEST-6239dE4B4u@85.13.134.164
DTSTAMP:20260420T065155Z
DESCRIPTION:
DTSTART;TZID=Europe/Berlin:20141026T150000
DTEND;TZID=Europe/Berlin:20141026T164500
LOCATION:
SUMMARY:KK-Gr 3 N/F 14/15: SV Losaurach - TSV Wilhermsdorf
END:VEVENT
BEGIN:VEVENT
UID:20260420T085155CEST-6241PdEV0h@85.13.134.164
DTSTAMP:20260420T065155Z
DESCRIPTION:
DTSTART;TZID=Europe/Berlin:20141102T143000
DTEND;TZID=Europe/Berlin:20141102T161500
LOCATION:
SUMMARY:KK-Gr 3 N/F 14/15: TSV Wilhermsdorf - FSV Lenkersheim
END:VEVENT
BEGIN:VEVENT
UID:20260420T085155CEST-6243dvS3UP@85.13.134.164
DTSTAMP:20260420T065155Z
DESCRIPTION:
DTSTART;TZID=Europe/Berlin:20141109T143000
DTEND;TZID=Europe/Berlin:20141109T161500
LOCATION:
SUMMARY:KK-Gr 3 N/F 14/15: SV Neuhof/​Zenn - TSV Wilhermsdorf
END:VEVENT
BEGIN:VEVENT
UID:20260420T085155CEST-62452SKtg1@85.13.134.164
DTSTAMP:20260420T065155Z
DESCRIPTION:
DTSTART;TZID=Europe/Berlin:20141116T143000
DTEND;TZID=Europe/Berlin:20141116T161500
LOCATION:
SUMMARY:KK-Gr 3 N/F 14/15: TSV Emskirchen - TSV Wilhermsdorf
END:VEVENT
BEGIN:VEVENT
UID:20260420T085155CEST-6247sEiATt@85.13.134.164
DTSTAMP:20260420T065155Z
DESCRIPTION:
DTSTART;TZID=Europe/Berlin:20150315T150000
DTEND;TZID=Europe/Berlin:20150315T164500
LOCATION:
SUMMARY:KK-Gr 3 N/F 14/15: TSV Wilhermsdorf - Dergahspor Nürnberg II
END:VEVENT
BEGIN:VEVENT
UID:20260420T085155CEST-6249BUVe2b@85.13.134.164
DTSTAMP:20260420T065155Z
DESCRIPTION:
DTSTART;TZID=Europe/Berlin:20150322T150000
DTEND;TZID=Europe/Berlin:20150322T164500
LOCATION:
SUMMARY:KK-Gr 3 N/F 14/15: Sportfreunde Laubendorf - TSV Wilhermsdorf
END:VEVENT
BEGIN:VEVENT
UID:20260420T085155CEST-6251xUkBTm@85.13.134.164
DTSTAMP:20260420T065155Z
DESCRIPTION:
DTSTART;TZID=Europe/Berlin:20150329T150000
DTEND;TZID=Europe/Berlin:20150329T164500
LOCATION:
SUMMARY:KK-Gr 3 N/F 14/15: TSV Wilhermsdorf - TSV Neustadt / Aisch II
END:VEVENT
BEGIN:VEVENT
UID:20260420T085155CEST-6252MnuLtj@85.13.134.164
DTSTAMP:20260420T065155Z
DESCRIPTION:
DTSTART;TZID=Europe/Berlin:20150412T150000
DTEND;TZID=Europe/Berlin:20150412T164500
LOCATION:
SUMMARY:KK-Gr 3 N/F 14/15: TSV Wilhermsdorf - SV Burggrafenhof
END:VEVENT
BEGIN:VEVENT
UID:20260420T085155CEST-6254lRRAOi@85.13.134.164
DTSTAMP:20260420T065155Z
DESCRIPTION:
DTSTART;TZID=Europe/Berlin:20150419T150000
DTEND;TZID=Europe/Berlin:20150419T164500
LOCATION:
SUMMARY:KK-Gr 3 N/F 14/15: TSV Obernzenn - TSV Wilhermsdorf
END:VEVENT
BEGIN:VEVENT
UID:20260420T085155CEST-6256uI8EUd@85.13.134.164
DTSTAMP:20260420T065155Z
DESCRIPTION:
DTSTART;TZID=Europe/Berlin:20150426T150000
DTEND;TZID=Europe/Berlin:20150426T164500
LOCATION:
SUMMARY:KK-Gr 3 N/F 14/15: TSV Wilhermsdorf - TSV Langenzenn
END:VEVENT
BEGIN:VEVENT
UID:20260420T085155CEST-6258EZZUhA@85.13.134.164
DTSTAMP:20260420T065155Z
DESCRIPTION:
DTSTART;TZID=Europe/Berlin:20150503T130000
DTEND;TZID=Europe/Berlin:20150503T144500
LOCATION:
SUMMARY:KK-Gr 3 N/F 14/15: ASV Veitsbronn-Sieg. II - TSV Wilhermsdorf
END:VEVENT
BEGIN:VEVENT
UID:20260420T085155CEST-626071hAIk@85.13.134.164
DTSTAMP:20260420T065155Z
DESCRIPTION:
DTSTART;TZID=Europe/Berlin:20150510T150000
DTEND;TZID=Europe/Berlin:20150510T164500
LOCATION:
SUMMARY:KK-Gr 3 N/F 14/15: TSV Wilhermsdorf - DTV Diespeck
END:VEVENT
BEGIN:VEVENT
UID:20260420T085155CEST-6261UjitG2@85.13.134.164
DTSTAMP:20260420T065155Z
DESCRIPTION:
DTSTART;TZID=Europe/Berlin:20150517T150000
DTEND;TZID=Europe/Berlin:20150517T164500
LOCATION:
SUMMARY:KK-Gr 3 N/F 14/15: SpVgg Steinachgrund - TSV Wilhermsdorf
END:VEVENT
BEGIN:VEVENT
UID:20260420T085155CEST-6263PcZOv4@85.13.134.164
DTSTAMP:20260420T065155Z
DESCRIPTION:
DTSTART;TZID=Europe/Berlin:20150531T150000
DTEND;TZID=Europe/Berlin:20150531T164500
LOCATION:
SUMMARY:KK-Gr 3 N/F 14/15: TSV Wilhermsdorf - SV Losaurach
END:VEVENT
BEGIN:VEVENT
UID:20260420T085155CEST-6265XL4kEo@85.13.134.164
DTSTAMP:20260420T065155Z
DESCRIPTION:Pappelstadion
DTSTART;TZID=Europe/Berlin:20150607T150000
DTEND;TZID=Europe/Berlin:20150607T164500
LOCATION:\,  Lenkersheim
SUMMARY:KK-Gr 3 N/F 14/15: FSV Lenkersheim - TSV Wilhermsdorf
END:VEVENT
BEGIN:VEVENT
UID:20260420T085155CEST-626704BVzF@85.13.134.164
DTSTAMP:20260420T065155Z
DESCRIPTION:
DTSTART;TZID=Europe/Berlin:20150614T150000
DTEND;TZID=Europe/Berlin:20150614T164500
LOCATION:
SUMMARY:KK-Gr 3 N/F 14/15: TSV Wilhermsdorf - SV Neuhof/​Zenn
END:VEVENT
END:VCALENDAR
