BEGIN:VCALENDAR
VERSION:2.0
PRODID:-//85.13.134.164//NONSGML kigkonsult.se iCalcreator 2.18//
X-WR-TIMEZONE:Europe/Berlin
BEGIN:VTIMEZONE
TZID:Europe/Berlin
X-LIC-LOCATION:Europe/Berlin
BEGIN:STANDARD
DTSTART:20181028T030000
TZOFFSETFROM:+0200
TZOFFSETTO:+0100
RDATE:20191027T030000
TZNAME:CET
END:STANDARD
BEGIN:DAYLIGHT
DTSTART:20190331T020000
TZOFFSETFROM:+0100
TZOFFSETTO:+0200
RDATE:20200329T020000
TZNAME:CEST
END:DAYLIGHT
END:VTIMEZONE
BEGIN:VEVENT
UID:20260421T183217CEST-7661EHVrli@85.13.134.164
DTSTAMP:20260421T163217Z
DESCRIPTION:
DTSTART;TZID=Europe/Berlin:20180819T150000
DTEND;TZID=Europe/Berlin:20180819T164500
LOCATION:
SUMMARY:BK-Gr 5 N/F 18-19: SV Steigerwald-Münchsteinach 2 - SV Burggrafenho
 f II
END:VEVENT
BEGIN:VEVENT
UID:20260421T183217CEST-766421IPeW@85.13.134.164
DTSTAMP:20260421T163217Z
DESCRIPTION:
DTSTART;TZID=Europe/Berlin:20180824T183000
DTEND;TZID=Europe/Berlin:20180824T201500
LOCATION:
SUMMARY:BK-Gr 5 N/F 18-19: SV Steigerwald-Münchsteinach 2 - SV Losaurach II
END:VEVENT
BEGIN:VEVENT
UID:20260421T183217CEST-7665TN7VFj@85.13.134.164
DTSTAMP:20260421T163217Z
DESCRIPTION:
DTSTART;TZID=Europe/Berlin:20180902T130000
DTEND;TZID=Europe/Berlin:20180902T144500
LOCATION:
SUMMARY:BK-Gr 5 N/F 18-19: SV Steigerwald-Münchsteinach 2 - SG Lenkersheim 
 / Bad Windsheim II
END:VEVENT
BEGIN:VEVENT
UID:20260421T183217CEST-76681cU8mn@85.13.134.164
DTSTAMP:20260421T163217Z
DESCRIPTION:
DTSTART;TZID=Europe/Berlin:20180906T190000
DTEND;TZID=Europe/Berlin:20180906T204500
LOCATION:
SUMMARY:BK-Gr 5 N/F 18-19: TSV Langenzenn II - SV Steigerwald-Münchsteinach
  2
END:VEVENT
BEGIN:VEVENT
UID:20260421T183217CEST-7670cvde0Z@85.13.134.164
DTSTAMP:20260421T163217Z
DESCRIPTION:
DTSTART;TZID=Europe/Berlin:20180916T130000
DTEND;TZID=Europe/Berlin:20180916T144500
LOCATION:
SUMMARY:BK-Gr 5 N/F 18-19: SV Steigerwald-Münchsteinach 2 - SV Neuhof/Zenn 
 II
END:VEVENT
BEGIN:VEVENT
UID:20260421T183217CEST-7671uiTUaV@85.13.134.164
DTSTAMP:20260421T163217Z
DESCRIPTION:
DTSTART;TZID=Europe/Berlin:20180923T130000
DTEND;TZID=Europe/Berlin:20180923T144500
LOCATION:
SUMMARY:BK-Gr 5 N/F 18-19:  	SG Brunn/​Wilhelmsdorf I  - SV Steigerwald-Münc
 hsteinach 2
END:VEVENT
BEGIN:VEVENT
UID:20260421T183217CEST-7673Zt8nPR@85.13.134.164
DTSTAMP:20260421T163217Z
DESCRIPTION:
DTSTART;TZID=Europe/Berlin:20180930T130000
DTEND;TZID=Europe/Berlin:20180930T144500
LOCATION:
SUMMARY:BK-Gr 5 N/F 18-19: SV Steigerwald-Münchsteinach 2 - FC Dachsbach-Bi
 rnbaum II
END:VEVENT
BEGIN:VEVENT
UID:20260421T183217CEST-7675v59kve@85.13.134.164
DTSTAMP:20260421T163217Z
DESCRIPTION:
DTSTART;TZID=Europe/Berlin:20181007T130000
DTEND;TZID=Europe/Berlin:20181007T144500
LOCATION:
SUMMARY:BK-Gr 5 N/F 18-19: SG FC Schauerheim II /​SC Dietersheim II - SV St
 eigerwald-Münchsteinach 2
END:VEVENT
BEGIN:VEVENT
UID:20260421T183217CEST-7677EAXTnF@85.13.134.164
DTSTAMP:20260421T163217Z
DESCRIPTION:
DTSTART;TZID=Europe/Berlin:20181014T150000
DTEND;TZID=Europe/Berlin:20181014T164500
LOCATION:
SUMMARY:BK-Gr 5 N/F 18-19: SpVgg Thierberg - SV Steigerwald-Münchsteinach 2
END:VEVENT
BEGIN:VEVENT
UID:20260421T183217CEST-7679h2P27b@85.13.134.164
DTSTAMP:20260421T163217Z
DESCRIPTION:
DTSTART;TZID=Europe/Berlin:20181021T130000
DTEND;TZID=Europe/Berlin:20181021T144500
LOCATION:
SUMMARY:BK-Gr 5 N/F 18-19: SV Steigerwald-Münchsteinach 2 - TSV Wilhermsdor
 f II
END:VEVENT
BEGIN:VEVENT
UID:20260421T183217CEST-76812u2N72@85.13.134.164
DTSTAMP:20260421T163217Z
DESCRIPTION:
DTSTART;TZID=Europe/Berlin:20181026T190000
DTEND;TZID=Europe/Berlin:20181026T204500
LOCATION:
SUMMARY:BK-Gr 5 N/F 18-19: SG Franken Neustadt/​TSV Neustadt/​Aisch I - SV 
 Steigerwald-Münchsteinach 2
END:VEVENT
BEGIN:VEVENT
UID:20260421T183217CEST-7683GjHme3@85.13.134.164
DTSTAMP:20260421T163217Z
DESCRIPTION:
DTSTART;TZID=Europe/Berlin:20181104T123000
DTEND;TZID=Europe/Berlin:20181104T141500
LOCATION:
SUMMARY:BK-Gr 5 N/F 18-19: SV Steigerwald-Münchsteinach 2 - SF Laubendorf I
 I
END:VEVENT
BEGIN:VEVENT
UID:20260421T183217CEST-7685FcXE1E@85.13.134.164
DTSTAMP:20260421T163217Z
DESCRIPTION:
DTSTART;TZID=Europe/Berlin:20181111T123000
DTEND;TZID=Europe/Berlin:20181111T141500
LOCATION:
SUMMARY:BK-Gr 5 N/F 18-19: DTV Diespeck II - SV Steigerwald-Münchsteinach 2
END:VEVENT
BEGIN:VEVENT
UID:20260421T183217CEST-7687IGagk4@85.13.134.164
DTSTAMP:20260421T163217Z
DESCRIPTION:
DTSTART;TZID=Europe/Berlin:20181118T120000
DTEND;TZID=Europe/Berlin:20181118T134500
LOCATION:
SUMMARY:BK-Gr 5 N/F 18-19: SV Burggrafenhof II - SV Steigerwald-Münchsteina
 ch 2
END:VEVENT
BEGIN:VEVENT
UID:20260421T183217CEST-7689oJkvjR@85.13.134.164
DTSTAMP:20260421T163217Z
DESCRIPTION:
DTSTART;TZID=Europe/Berlin:20190317T130000
DTEND;TZID=Europe/Berlin:20190317T144500
LOCATION:
SUMMARY:BK-Gr 5 N/F 18-19: SV Losaurach II - SV Steigerwald-Münchsteinach 2
END:VEVENT
BEGIN:VEVENT
UID:20260421T183217CEST-7690jMU97F@85.13.134.164
DTSTAMP:20260421T163217Z
DESCRIPTION:Pappelstadion
DTSTART;TZID=Europe/Berlin:20190324T130000
DTEND;TZID=Europe/Berlin:20190324T144500
LOCATION:\,  Lenkersheim
SUMMARY:BK-Gr 5 N/F 18-19: SG Lenkersheim / Bad Windsheim II - SV Steigerwa
 ld-Münchsteinach 2
END:VEVENT
BEGIN:VEVENT
UID:20260421T183217CEST-7692GkuIxW@85.13.134.164
DTSTAMP:20260421T163217Z
DESCRIPTION:
DTSTART;TZID=Europe/Berlin:20190331T130000
DTEND;TZID=Europe/Berlin:20190331T144500
LOCATION:
SUMMARY:BK-Gr 5 N/F 18-19: SV Steigerwald-Münchsteinach 2 - TSV Langenzenn 
 II
END:VEVENT
BEGIN:VEVENT
UID:20260421T183217CEST-7694d0MkgL@85.13.134.164
DTSTAMP:20260421T163217Z
DESCRIPTION:
DTSTART;TZID=Europe/Berlin:20190408T130000
DTEND;TZID=Europe/Berlin:20190408T144500
LOCATION:
SUMMARY:BK-Gr 5 N/F 18-19: SV Neuhof/Zenn II - SV Steigerwald-Münchsteinach
  2
END:VEVENT
BEGIN:VEVENT
UID:20260421T183217CEST-7696NvC2jw@85.13.134.164
DTSTAMP:20260421T163217Z
DESCRIPTION:
DTSTART;TZID=Europe/Berlin:20190414T130000
DTEND;TZID=Europe/Berlin:20190414T144500
LOCATION:
SUMMARY:BK-Gr 5 N/F 18-19: SV Steigerwald-Münchsteinach 2 -  	SG Brunn/​Wilh
 elmsdorf I 
END:VEVENT
BEGIN:VEVENT
UID:20260421T183217CEST-7698OkNUem@85.13.134.164
DTSTAMP:20260421T163217Z
DESCRIPTION:
DTSTART;TZID=Europe/Berlin:20190428T130000
DTEND;TZID=Europe/Berlin:20190428T144500
LOCATION:
SUMMARY:BK-Gr 5 N/F 18-19: FC Dachsbach-Birnbaum II - SV Steigerwald-Münchs
 teinach 2
END:VEVENT
BEGIN:VEVENT
UID:20260421T183217CEST-77000m82VT@85.13.134.164
DTSTAMP:20260421T163217Z
DESCRIPTION:
DTSTART;TZID=Europe/Berlin:20190505T130000
DTEND;TZID=Europe/Berlin:20190505T144500
LOCATION:
SUMMARY:BK-Gr 5 N/F 18-19: SV Steigerwald-Münchsteinach 2 - SG FC Schauerhe
 im II /​SC Dietersheim II
END:VEVENT
BEGIN:VEVENT
UID:20260421T183217CEST-7702vcrz9H@85.13.134.164
DTSTAMP:20260421T163217Z
DESCRIPTION:
DTSTART;TZID=Europe/Berlin:20190512T130000
DTEND;TZID=Europe/Berlin:20190512T144500
LOCATION:
SUMMARY:BK-Gr 5 N/F 18-19: SV Steigerwald-Münchsteinach 2 - SpVgg Thierberg
END:VEVENT
BEGIN:VEVENT
UID:20260421T183217CEST-7704DAECVU@85.13.134.164
DTSTAMP:20260421T163217Z
DESCRIPTION:
DTSTART;TZID=Europe/Berlin:20190519T130000
DTEND;TZID=Europe/Berlin:20190519T144500
LOCATION:
SUMMARY:BK-Gr 5 N/F 18-19: TSV Wilhermsdorf II - SV Steigerwald-Münchsteina
 ch 2
END:VEVENT
BEGIN:VEVENT
UID:20260421T183217CEST-7705ucpW0O@85.13.134.164
DTSTAMP:20260421T163217Z
DESCRIPTION:
DTSTART;TZID=Europe/Berlin:20190526T130000
DTEND;TZID=Europe/Berlin:20190526T144500
LOCATION:
SUMMARY:BK-Gr 5 N/F 18-19: SV Steigerwald-Münchsteinach 2 - SG Franken Neus
 tadt/​TSV Neustadt/​Aisch I
END:VEVENT
BEGIN:VEVENT
UID:20260421T183217CEST-7708PP4SvL@85.13.134.164
DTSTAMP:20260421T163217Z
DESCRIPTION:
DTSTART;TZID=Europe/Berlin:20190602T130000
DTEND;TZID=Europe/Berlin:20190602T144500
LOCATION:
SUMMARY:BK-Gr 5 N/F 18-19: SF Laubendorf II - SV Steigerwald-Münchsteinach 
 2
END:VEVENT
BEGIN:VEVENT
UID:20260421T183217CEST-7709VuL4BU@85.13.134.164
DTSTAMP:20260421T163217Z
DESCRIPTION:
DTSTART;TZID=Europe/Berlin:20190608T140000
DTEND;TZID=Europe/Berlin:20190608T154500
LOCATION:
SUMMARY:BK-Gr 5 N/F 18-19: SV Steigerwald-Münchsteinach 2 - DTV Diespeck II
END:VEVENT
END:VCALENDAR
