BEGIN:VCALENDAR
VERSION:2.0
PRODID:-//85.13.134.164//NONSGML kigkonsult.se iCalcreator 2.18//
X-WR-TIMEZONE:Europe/Berlin
BEGIN:VTIMEZONE
TZID:Europe/Berlin
X-LIC-LOCATION:Europe/Berlin
BEGIN:STANDARD
DTSTART:20161030T030000
TZOFFSETFROM:+0200
TZOFFSETTO:+0100
RDATE:20171029T030000
TZNAME:CET
END:STANDARD
BEGIN:DAYLIGHT
DTSTART:20170326T020000
TZOFFSETFROM:+0100
TZOFFSETTO:+0200
RDATE:20180325T020000
TZNAME:CEST
END:DAYLIGHT
END:VTIMEZONE
BEGIN:VEVENT
UID:20260423T122349CEST-1262Vvv4wZ@85.13.134.164
DTSTAMP:20260423T102349Z
DESCRIPTION:
DTSTART;TZID=Europe/Berlin:20160821T153000
DTEND;TZID=Europe/Berlin:20160821T171500
LOCATION:
SUMMARY:AK-Gr 4 N/F 16-17: SSV Egenhausen - SG Lenkersheim / Bad Windsheim
END:VEVENT
BEGIN:VEVENT
UID:20260423T122349CEST-1264sSwRIH@85.13.134.164
DTSTAMP:20260423T102349Z
DESCRIPTION:Pappelstadion
DTSTART;TZID=Europe/Berlin:20160828T150000
DTEND;TZID=Europe/Berlin:20160828T164500
LOCATION:\,  Lenkersheim
SUMMARY:AK-Gr 4 N/F 16-17: SG Lenkersheim / Bad Windsheim - SpVgg Gallmersg
 arten
END:VEVENT
BEGIN:VEVENT
UID:20260423T122349CEST-12665Ojzuz@85.13.134.164
DTSTAMP:20260423T102349Z
DESCRIPTION:Pappelstadion
DTSTART;TZID=Europe/Berlin:20160904T150000
DTEND;TZID=Europe/Berlin:20160904T164500
LOCATION:\,  Lenkersheim
SUMMARY:AK-Gr 4 N/F 16-17: SG Lenkersheim / Bad Windsheim - SV Insingen
END:VEVENT
BEGIN:VEVENT
UID:20260423T122349CEST-1268F5OcPM@85.13.134.164
DTSTAMP:20260423T102349Z
DESCRIPTION:
DTSTART;TZID=Europe/Berlin:20160911T150000
DTEND;TZID=Europe/Berlin:20160911T164500
LOCATION:
SUMMARY:AK-Gr 4 N/F 16-17: FC Erzberg-Wörnitz - SG Lenkersheim / Bad Windsh
 eim
END:VEVENT
BEGIN:VEVENT
UID:20260423T122349CEST-12709jbtop@85.13.134.164
DTSTAMP:20260423T102349Z
DESCRIPTION:Pappelstadion
DTSTART;TZID=Europe/Berlin:20160918T150000
DTEND;TZID=Europe/Berlin:20160918T164500
LOCATION:\,  Lenkersheim
SUMMARY:AK-Gr 4 N/F 16-17: SG Lenkersheim / Bad Windsheim - SVV Weigenheim 
 II
END:VEVENT
BEGIN:VEVENT
UID:20260423T122349CEST-1272r4M5cz@85.13.134.164
DTSTAMP:20260423T102349Z
DESCRIPTION:
DTSTART;TZID=Europe/Berlin:20160925T150000
DTEND;TZID=Europe/Berlin:20160925T164500
LOCATION:
SUMMARY:AK-Gr 4 N/F 16-17: SV Ergersheim - SG Lenkersheim / Bad Windsheim
END:VEVENT
BEGIN:VEVENT
UID:20260423T122349CEST-1275ibUUv3@85.13.134.164
DTSTAMP:20260423T102349Z
DESCRIPTION:Pappelstadion
DTSTART;TZID=Europe/Berlin:20161001T160000
DTEND;TZID=Europe/Berlin:20161001T174500
LOCATION:\,  Lenkersheim
SUMMARY:AK-Gr 4 N/F 16-17: SG Lenkersheim / Bad Windsheim - SC Adelshofen
END:VEVENT
BEGIN:VEVENT
UID:20260423T122349CEST-1277VM8Eug@85.13.134.164
DTSTAMP:20260423T102349Z
DESCRIPTION:
DTSTART;TZID=Europe/Berlin:20161003T130000
DTEND;TZID=Europe/Berlin:20161003T144500
LOCATION:
SUMMARY:AK-Gr 4 N/F 16-17: TSV Lehrberg 2 - SG Lenkersheim / Bad Windsheim
END:VEVENT
BEGIN:VEVENT
UID:20260423T122349CEST-1279TdpnNV@85.13.134.164
DTSTAMP:20260423T102349Z
DESCRIPTION:Pappelstadion
DTSTART;TZID=Europe/Berlin:20161009T150000
DTEND;TZID=Europe/Berlin:20161009T164500
LOCATION:\,  Lenkersheim
SUMMARY:AK-Gr 4 N/F 16-17: SG Lenkersheim / Bad Windsheim - SG Colmberg/​Ob
 erdachstetten I 
END:VEVENT
BEGIN:VEVENT
UID:20260423T122349CEST-1281DWUokT@85.13.134.164
DTSTAMP:20260423T102349Z
DESCRIPTION:
DTSTART;TZID=Europe/Berlin:20161015T173000
DTEND;TZID=Europe/Berlin:20161015T191500
LOCATION:
SUMMARY:AK-Gr 4 N/F 16-17: TSV Rothenburg II - SG Lenkersheim / Bad Windshe
 im
END:VEVENT
BEGIN:VEVENT
UID:20260423T122349CEST-1283WUJfIn@85.13.134.164
DTSTAMP:20260423T102349Z
DESCRIPTION:Pappelstadion
DTSTART;TZID=Europe/Berlin:20161023T153000
DTEND;TZID=Europe/Berlin:20161023T171500
LOCATION:\,  Lenkersheim
SUMMARY:AK-Gr 4 N/F 16-17: SG Lenkersheim / Bad Windsheim - ASV Breitenau
END:VEVENT
BEGIN:VEVENT
UID:20260423T122349CEST-1285wUwGNc@85.13.134.164
DTSTAMP:20260423T102349Z
DESCRIPTION:
DTSTART;TZID=Europe/Berlin:20161030T150000
DTEND;TZID=Europe/Berlin:20161030T164500
LOCATION:
SUMMARY:AK-Gr 4 N/F 16-17:  1.FV Uffenheim II - SG Lenkersheim / Bad Windsh
 eim
END:VEVENT
BEGIN:VEVENT
UID:20260423T122349CEST-1287XM91UN@85.13.134.164
DTSTAMP:20260423T102349Z
DESCRIPTION:Pappelstadion
DTSTART;TZID=Europe/Berlin:20161106T143000
DTEND;TZID=Europe/Berlin:20161106T161500
LOCATION:\,  Lenkersheim
SUMMARY:AK-Gr 4 N/F 16-17: SG Lenkersheim / Bad Windsheim - TSV Burgbernhei
 m
END:VEVENT
BEGIN:VEVENT
UID:20260423T122349CEST-1289K9u9va@85.13.134.164
DTSTAMP:20260423T102349Z
DESCRIPTION:Pappelstadion
DTSTART;TZID=Europe/Berlin:20161113T143000
DTEND;TZID=Europe/Berlin:20161113T161500
LOCATION:\,  Lenkersheim
SUMMARY:AK-Gr 4 N/F 16-17: SG Lenkersheim / Bad Windsheim - SSV Egenhausen
END:VEVENT
BEGIN:VEVENT
UID:20260423T122349CEST-1291voj6XE@85.13.134.164
DTSTAMP:20260423T102349Z
DESCRIPTION:
DTSTART;TZID=Europe/Berlin:20161127T143000
DTEND;TZID=Europe/Berlin:20161127T161500
LOCATION:
SUMMARY:AK-Gr 4 N/F 16-17: SpVgg Gallmersgarten - SG Lenkersheim / Bad Wind
 sheim
END:VEVENT
BEGIN:VEVENT
UID:20260423T122349CEST-1293v9bGXb@85.13.134.164
DTSTAMP:20260423T102349Z
DESCRIPTION:
DTSTART;TZID=Europe/Berlin:20170319T150000
DTEND;TZID=Europe/Berlin:20170319T164500
LOCATION:
SUMMARY:AK-Gr 4 N/F 16-17: SV Insingen - SG Lenkersheim / Bad Windsheim
END:VEVENT
BEGIN:VEVENT
UID:20260423T122349CEST-1295P5xitg@85.13.134.164
DTSTAMP:20260423T102349Z
DESCRIPTION:Pappelstadion
DTSTART;TZID=Europe/Berlin:20170326T150000
DTEND;TZID=Europe/Berlin:20170326T164500
LOCATION:\,  Lenkersheim
SUMMARY:AK-Gr 4 N/F 16-17: SG Lenkersheim / Bad Windsheim - FC Erzberg-Wörn
 itz
END:VEVENT
BEGIN:VEVENT
UID:20260423T122349CEST-12972rJVLp@85.13.134.164
DTSTAMP:20260423T102349Z
DESCRIPTION:
DTSTART;TZID=Europe/Berlin:20170402T130000
DTEND;TZID=Europe/Berlin:20170402T144500
LOCATION:
SUMMARY:AK-Gr 4 N/F 16-17: SVV Weigenheim II - SG Lenkersheim / Bad Windshe
 im
END:VEVENT
BEGIN:VEVENT
UID:20260423T122349CEST-1299jbSOMs@85.13.134.164
DTSTAMP:20260423T102349Z
DESCRIPTION:Pappelstadion
DTSTART;TZID=Europe/Berlin:20170409T150000
DTEND;TZID=Europe/Berlin:20170409T164500
LOCATION:\,  Lenkersheim
SUMMARY:AK-Gr 4 N/F 16-17: SG Lenkersheim / Bad Windsheim - SV Ergersheim
END:VEVENT
BEGIN:VEVENT
UID:20260423T122349CEST-1301upgu3E@85.13.134.164
DTSTAMP:20260423T102349Z
DESCRIPTION:
DTSTART;TZID=Europe/Berlin:20170423T150000
DTEND;TZID=Europe/Berlin:20170423T164500
LOCATION:
SUMMARY:AK-Gr 4 N/F 16-17: SC Adelshofen - SG Lenkersheim / Bad Windsheim
END:VEVENT
BEGIN:VEVENT
UID:20260423T122349CEST-1304LoneiV@85.13.134.164
DTSTAMP:20260423T102349Z
DESCRIPTION:Pappelstadion
DTSTART;TZID=Europe/Berlin:20170430T150000
DTEND;TZID=Europe/Berlin:20170430T164500
LOCATION:\,  Lenkersheim
SUMMARY:AK-Gr 4 N/F 16-17: SG Lenkersheim / Bad Windsheim - TSV Lehrberg 2
END:VEVENT
BEGIN:VEVENT
UID:20260423T122349CEST-1306kAI5dW@85.13.134.164
DTSTAMP:20260423T102349Z
DESCRIPTION:
DTSTART;TZID=Europe/Berlin:20170507T150000
DTEND;TZID=Europe/Berlin:20170507T164500
LOCATION:
SUMMARY:AK-Gr 4 N/F 16-17: SG Colmberg/​Oberdachstetten I  - SG Lenkersheim
  / Bad Windsheim
END:VEVENT
BEGIN:VEVENT
UID:20260423T122349CEST-13085V3KZg@85.13.134.164
DTSTAMP:20260423T102349Z
DESCRIPTION:Pappelstadion
DTSTART;TZID=Europe/Berlin:20170514T150000
DTEND;TZID=Europe/Berlin:20170514T164500
LOCATION:\,  Lenkersheim
SUMMARY:AK-Gr 4 N/F 16-17: SG Lenkersheim / Bad Windsheim - TSV Rothenburg 
 II
END:VEVENT
BEGIN:VEVENT
UID:20260423T122349CEST-1310V41ptr@85.13.134.164
DTSTAMP:20260423T102349Z
DESCRIPTION:
DTSTART;TZID=Europe/Berlin:20170521T150000
DTEND;TZID=Europe/Berlin:20170521T164500
LOCATION:
SUMMARY:AK-Gr 4 N/F 16-17: ASV Breitenau - SG Lenkersheim / Bad Windsheim
END:VEVENT
BEGIN:VEVENT
UID:20260423T122349CEST-1312R0WFUA@85.13.134.164
DTSTAMP:20260423T102349Z
DESCRIPTION:Pappelstadion
DTSTART;TZID=Europe/Berlin:20170528T150000
DTEND;TZID=Europe/Berlin:20170528T164500
LOCATION:\,  Lenkersheim
SUMMARY:AK-Gr 4 N/F 16-17: SG Lenkersheim / Bad Windsheim -  1.FV Uffenheim
  II
END:VEVENT
BEGIN:VEVENT
UID:20260423T122349CEST-1314PifI1S@85.13.134.164
DTSTAMP:20260423T102349Z
DESCRIPTION:
DTSTART;TZID=Europe/Berlin:20170603T160000
DTEND;TZID=Europe/Berlin:20170603T174500
LOCATION:
SUMMARY:AK-Gr 4 N/F 16-17: TSV Burgbernheim - SG Lenkersheim / Bad Windshei
 m
END:VEVENT
END:VCALENDAR
