BEGIN:VCALENDAR
VERSION:2.0
PRODID:-//85.13.134.164//NONSGML kigkonsult.se iCalcreator 2.18//
X-WR-TIMEZONE:Europe/Berlin
BEGIN:VTIMEZONE
TZID:Europe/Berlin
X-LIC-LOCATION:Europe/Berlin
BEGIN:STANDARD
DTSTART:20141026T030000
TZOFFSETFROM:+0200
TZOFFSETTO:+0100
RDATE:20151025T030000
TZNAME:CET
END:STANDARD
BEGIN:DAYLIGHT
DTSTART:20150329T020000
TZOFFSETFROM:+0100
TZOFFSETTO:+0200
RDATE:20160327T020000
TZNAME:CEST
END:DAYLIGHT
END:VTIMEZONE
BEGIN:VEVENT
UID:20260423T072433CEST-0228n6rJiu@85.13.134.164
DTSTAMP:20260423T052433Z
DESCRIPTION:
DTSTART;TZID=Europe/Berlin:20140817T150000
DTEND;TZID=Europe/Berlin:20140817T164500
LOCATION:
SUMMARY:KK-Gr 3 N/F 14/15: TSV Langenzenn - FSV Lenkersheim
END:VEVENT
BEGIN:VEVENT
UID:20260423T072433CEST-0231cGNg4u@85.13.134.164
DTSTAMP:20260423T052433Z
DESCRIPTION:Pappelstadion
DTSTART;TZID=Europe/Berlin:20140824T150000
DTEND;TZID=Europe/Berlin:20140824T164500
LOCATION:\,  Lenkersheim
SUMMARY:KK-Gr 3 N/F 14/15: FSV Lenkersheim - ASV Veitsbronn-Sieg. II
END:VEVENT
BEGIN:VEVENT
UID:20260423T072433CEST-0232b8Xv7l@85.13.134.164
DTSTAMP:20260423T052433Z
DESCRIPTION:
DTSTART;TZID=Europe/Berlin:20140831T150000
DTEND;TZID=Europe/Berlin:20140831T164500
LOCATION:
SUMMARY:KK-Gr 3 N/F 14/15: DTV Diespeck - FSV Lenkersheim
END:VEVENT
BEGIN:VEVENT
UID:20260423T072433CEST-0234p8vALW@85.13.134.164
DTSTAMP:20260423T052433Z
DESCRIPTION:Pappelstadion
DTSTART;TZID=Europe/Berlin:20140907T150000
DTEND;TZID=Europe/Berlin:20140907T164500
LOCATION:\,  Lenkersheim
SUMMARY:KK-Gr 3 N/F 14/15: FSV Lenkersheim - SpVgg Steinachgrund
END:VEVENT
BEGIN:VEVENT
UID:20260423T072433CEST-0236w5evic@85.13.134.164
DTSTAMP:20260423T052433Z
DESCRIPTION:
DTSTART;TZID=Europe/Berlin:20140914T150000
DTEND;TZID=Europe/Berlin:20140914T164500
LOCATION:
SUMMARY:KK-Gr 3 N/F 14/15: SV Losaurach - FSV Lenkersheim
END:VEVENT
BEGIN:VEVENT
UID:20260423T072433CEST-0238uEX3vM@85.13.134.164
DTSTAMP:20260423T052433Z
DESCRIPTION:Pappelstadion
DTSTART;TZID=Europe/Berlin:20140921T150000
DTEND;TZID=Europe/Berlin:20140921T164500
LOCATION:\,  Lenkersheim
SUMMARY:KK-Gr 3 N/F 14/15: FSV Lenkersheim - SV Burggrafenhof
END:VEVENT
BEGIN:VEVENT
UID:20260423T072433CEST-0240bJLMBT@85.13.134.164
DTSTAMP:20260423T052433Z
DESCRIPTION:Pappelstadion
DTSTART;TZID=Europe/Berlin:20140928T150000
DTEND;TZID=Europe/Berlin:20140928T164500
LOCATION:\,  Lenkersheim
SUMMARY:KK-Gr 3 N/F 14/15: FSV Lenkersheim - SV Neuhof/​Zenn
END:VEVENT
BEGIN:VEVENT
UID:20260423T072433CEST-0242BAGusH@85.13.134.164
DTSTAMP:20260423T052433Z
DESCRIPTION:
DTSTART;TZID=Europe/Berlin:20141005T150000
DTEND;TZID=Europe/Berlin:20141005T164500
LOCATION:
SUMMARY:KK-Gr 3 N/F 14/15: TSV Emskirchen - FSV Lenkersheim
END:VEVENT
BEGIN:VEVENT
UID:20260423T072433CEST-0244v9Cohs@85.13.134.164
DTSTAMP:20260423T052433Z
DESCRIPTION:Pappelstadion
DTSTART;TZID=Europe/Berlin:20141012T130000
DTEND;TZID=Europe/Berlin:20141012T144500
LOCATION:\,  Lenkersheim
SUMMARY:KK-Gr 3 N/F 14/15: FSV Lenkersheim - Dergahspor Nürnberg II
END:VEVENT
BEGIN:VEVENT
UID:20260423T072433CEST-0246rbAxSh@85.13.134.164
DTSTAMP:20260423T052433Z
DESCRIPTION:
DTSTART;TZID=Europe/Berlin:20141019T150000
DTEND;TZID=Europe/Berlin:20141019T164500
LOCATION:
SUMMARY:KK-Gr 3 N/F 14/15: Sportfreunde Laubendorf - FSV Lenkersheim
END:VEVENT
BEGIN:VEVENT
UID:20260423T072433CEST-0248gNiGKB@85.13.134.164
DTSTAMP:20260423T052433Z
DESCRIPTION:Pappelstadion
DTSTART;TZID=Europe/Berlin:20141026T153000
DTEND;TZID=Europe/Berlin:20141026T171500
LOCATION:\,  Lenkersheim
SUMMARY:KK-Gr 3 N/F 14/15: FSV Lenkersheim - TSV Neustadt / Aisch II
END:VEVENT
BEGIN:VEVENT
UID:20260423T072433CEST-0249Gwpfts@85.13.134.164
DTSTAMP:20260423T052433Z
DESCRIPTION:
DTSTART;TZID=Europe/Berlin:20141102T143000
DTEND;TZID=Europe/Berlin:20141102T161500
LOCATION:
SUMMARY:KK-Gr 3 N/F 14/15: TSV Wilhermsdorf - FSV Lenkersheim
END:VEVENT
BEGIN:VEVENT
UID:20260423T072433CEST-02515F2mcp@85.13.134.164
DTSTAMP:20260423T052433Z
DESCRIPTION:Pappelstadion
DTSTART;TZID=Europe/Berlin:20141109T143000
DTEND;TZID=Europe/Berlin:20141109T161500
LOCATION:\,  Lenkersheim
SUMMARY:KK-Gr 3 N/F 14/15: FSV Lenkersheim - TSV Obernzenn
END:VEVENT
BEGIN:VEVENT
UID:20260423T072433CEST-0253x0fxBs@85.13.134.164
DTSTAMP:20260423T052433Z
DESCRIPTION:Pappelstadion
DTSTART;TZID=Europe/Berlin:20141116T143000
DTEND;TZID=Europe/Berlin:20141116T161500
LOCATION:\,  Lenkersheim
SUMMARY:KK-Gr 3 N/F 14/15: FSV Lenkersheim - TSV Langenzenn
END:VEVENT
BEGIN:VEVENT
UID:20260423T072433CEST-0255aBKVh5@85.13.134.164
DTSTAMP:20260423T052433Z
DESCRIPTION:
DTSTART;TZID=Europe/Berlin:20150315T130000
DTEND;TZID=Europe/Berlin:20150315T144500
LOCATION:
SUMMARY:KK-Gr 3 N/F 14/15: ASV Veitsbronn-Sieg. II - FSV Lenkersheim
END:VEVENT
BEGIN:VEVENT
UID:20260423T072433CEST-0257uhOWLJ@85.13.134.164
DTSTAMP:20260423T052433Z
DESCRIPTION:Pappelstadion
DTSTART;TZID=Europe/Berlin:20150322T150000
DTEND;TZID=Europe/Berlin:20150322T164500
LOCATION:\,  Lenkersheim
SUMMARY:KK-Gr 3 N/F 14/15: FSV Lenkersheim - DTV Diespeck
END:VEVENT
BEGIN:VEVENT
UID:20260423T072433CEST-0259mxlrlK@85.13.134.164
DTSTAMP:20260423T052433Z
DESCRIPTION:
DTSTART;TZID=Europe/Berlin:20150329T150000
DTEND;TZID=Europe/Berlin:20150329T164500
LOCATION:
SUMMARY:KK-Gr 3 N/F 14/15: SpVgg Steinachgrund - FSV Lenkersheim
END:VEVENT
BEGIN:VEVENT
UID:20260423T072433CEST-0261lDZPRI@85.13.134.164
DTSTAMP:20260423T052433Z
DESCRIPTION:Pappelstadion
DTSTART;TZID=Europe/Berlin:20150412T150000
DTEND;TZID=Europe/Berlin:20150412T164500
LOCATION:\,  Lenkersheim
SUMMARY:KK-Gr 3 N/F 14/15: FSV Lenkersheim - SV Losaurach
END:VEVENT
BEGIN:VEVENT
UID:20260423T072433CEST-0263Wx5dW2@85.13.134.164
DTSTAMP:20260423T052433Z
DESCRIPTION:
DTSTART;TZID=Europe/Berlin:20150419T150000
DTEND;TZID=Europe/Berlin:20150419T164500
LOCATION:
SUMMARY:KK-Gr 3 N/F 14/15: SV Burggrafenhof - FSV Lenkersheim
END:VEVENT
BEGIN:VEVENT
UID:20260423T072433CEST-0265l3or0K@85.13.134.164
DTSTAMP:20260423T052433Z
DESCRIPTION:
DTSTART;TZID=Europe/Berlin:20150426T150000
DTEND;TZID=Europe/Berlin:20150426T164500
LOCATION:
SUMMARY:KK-Gr 3 N/F 14/15: SV Neuhof/​Zenn - FSV Lenkersheim
END:VEVENT
BEGIN:VEVENT
UID:20260423T072433CEST-0267cTn36g@85.13.134.164
DTSTAMP:20260423T052433Z
DESCRIPTION:Pappelstadion
DTSTART;TZID=Europe/Berlin:20150503T150000
DTEND;TZID=Europe/Berlin:20150503T164500
LOCATION:\,  Lenkersheim
SUMMARY:KK-Gr 3 N/F 14/15: FSV Lenkersheim - TSV Emskirchen
END:VEVENT
BEGIN:VEVENT
UID:20260423T072433CEST-0269ZIN0UN@85.13.134.164
DTSTAMP:20260423T052433Z
DESCRIPTION:
DTSTART;TZID=Europe/Berlin:20150510T110000
DTEND;TZID=Europe/Berlin:20150510T124500
LOCATION:
SUMMARY:KK-Gr 3 N/F 14/15: Dergahspor Nürnberg II - FSV Lenkersheim
END:VEVENT
BEGIN:VEVENT
UID:20260423T072433CEST-0271k5euHJ@85.13.134.164
DTSTAMP:20260423T052433Z
DESCRIPTION:Pappelstadion
DTSTART;TZID=Europe/Berlin:20150517T150000
DTEND;TZID=Europe/Berlin:20150517T164500
LOCATION:\,  Lenkersheim
SUMMARY:KK-Gr 3 N/F 14/15: FSV Lenkersheim - Sportfreunde Laubendorf
END:VEVENT
BEGIN:VEVENT
UID:20260423T072433CEST-0273Licpzv@85.13.134.164
DTSTAMP:20260423T052433Z
DESCRIPTION:
DTSTART;TZID=Europe/Berlin:20150531T150000
DTEND;TZID=Europe/Berlin:20150531T164500
LOCATION:
SUMMARY:KK-Gr 3 N/F 14/15: TSV Neustadt / Aisch II - FSV Lenkersheim
END:VEVENT
BEGIN:VEVENT
UID:20260423T072433CEST-0275MGxFGh@85.13.134.164
DTSTAMP:20260423T052433Z
DESCRIPTION:Pappelstadion
DTSTART;TZID=Europe/Berlin:20150607T150000
DTEND;TZID=Europe/Berlin:20150607T164500
LOCATION:\,  Lenkersheim
SUMMARY:KK-Gr 3 N/F 14/15: FSV Lenkersheim - TSV Wilhermsdorf
END:VEVENT
BEGIN:VEVENT
UID:20260423T072433CEST-0276LKXvG7@85.13.134.164
DTSTAMP:20260423T052433Z
DESCRIPTION:
DTSTART;TZID=Europe/Berlin:20150614T150000
DTEND;TZID=Europe/Berlin:20150614T164500
LOCATION:
SUMMARY:KK-Gr 3 N/F 14/15: TSV Obernzenn - FSV Lenkersheim
END:VEVENT
END:VCALENDAR
