BEGIN:VCALENDAR
VERSION:2.0
PRODID:-//85.13.134.164//NONSGML kigkonsult.se iCalcreator 2.18//
X-WR-TIMEZONE:Europe/Berlin
BEGIN:VTIMEZONE
TZID:Europe/Berlin
X-LIC-LOCATION:Europe/Berlin
BEGIN:STANDARD
DTSTART:20111030T030000
TZOFFSETFROM:+0200
TZOFFSETTO:+0100
RDATE:20121028T030000
TZNAME:CET
END:STANDARD
BEGIN:DAYLIGHT
DTSTART:20120325T020000
TZOFFSETFROM:+0100
TZOFFSETTO:+0200
RDATE:20130331T020000
TZNAME:CEST
END:DAYLIGHT
END:VTIMEZONE
BEGIN:VEVENT
UID:20260420T145717CEST-4186euoGkj@85.13.134.164
DTSTAMP:20260420T125717Z
DESCRIPTION:
DTSTART;TZID=Europe/Berlin:20110821T150000
DTEND;TZID=Europe/Berlin:20110821T164500
LOCATION:
SUMMARY:B-Klasse 1 11/12: TSV Obernzenn II - SV Ergersheim II
END:VEVENT
BEGIN:VEVENT
UID:20260420T145717CEST-4189mvntU1@85.13.134.164
DTSTAMP:20260420T125717Z
DESCRIPTION:Pappelstadion
DTSTART;TZID=Europe/Berlin:20110907T201500
DTEND;TZID=Europe/Berlin:20110907T220000
LOCATION:\,  Lenkersheim
SUMMARY:B-Klasse 1 11/12: FSV Lenkersheim II - TSV Obernzenn II
END:VEVENT
BEGIN:VEVENT
UID:20260420T145717CEST-419124us80@85.13.134.164
DTSTAMP:20260420T125717Z
DESCRIPTION:
DTSTART;TZID=Europe/Berlin:20110904T150000
DTEND;TZID=Europe/Berlin:20110904T164500
LOCATION:
SUMMARY:B-Klasse 1 11/12: TSV Obernzenn II - SC Trautskirchen II
END:VEVENT
BEGIN:VEVENT
UID:20260420T145717CEST-4193XD5UMl@85.13.134.164
DTSTAMP:20260420T125717Z
DESCRIPTION:
DTSTART;TZID=Europe/Berlin:20110910T180000
DTEND;TZID=Europe/Berlin:20110910T194500
LOCATION:
SUMMARY:B-Klasse 1 11/12: SVV Weigenheim III - TSV Obernzenn II
END:VEVENT
BEGIN:VEVENT
UID:20260420T145717CEST-4195v5g5AJ@85.13.134.164
DTSTAMP:20260420T125717Z
DESCRIPTION:
DTSTART;TZID=Europe/Berlin:20110918T150000
DTEND;TZID=Europe/Berlin:20110918T164500
LOCATION:
SUMMARY:B-Klasse 1 11/12: TSV Obernzenn II - SpVgg Gallmersgarten II
END:VEVENT
BEGIN:VEVENT
UID:20260420T145717CEST-4197xVvv9f@85.13.134.164
DTSTAMP:20260420T125717Z
DESCRIPTION:
DTSTART;TZID=Europe/Berlin:20111001T160000
DTEND;TZID=Europe/Berlin:20111001T174500
LOCATION:
SUMMARY:B-Klasse 1 11/12: TSV Obernzenn II - TSV Burgbernheim II
END:VEVENT
BEGIN:VEVENT
UID:20260420T145717CEST-4199hXTAot@85.13.134.164
DTSTAMP:20260420T125717Z
DESCRIPTION:
DTSTART;TZID=Europe/Berlin:20110826T203000
DTEND;TZID=Europe/Berlin:20110826T221500
LOCATION:
SUMMARY:B-Klasse 1 11/12: FSV Ipsheim II - TSV Obernzenn II
END:VEVENT
BEGIN:VEVENT
UID:20260420T145717CEST-4201vhEVaX@85.13.134.164
DTSTAMP:20260420T125717Z
DESCRIPTION:
DTSTART;TZID=Europe/Berlin:20111009T150000
DTEND;TZID=Europe/Berlin:20111009T164500
LOCATION:
SUMMARY:B-Klasse 1 11/12: TSV Obernzenn II - RSV Sugenheim II
END:VEVENT
BEGIN:VEVENT
UID:20260420T145717CEST-4203jWMDSK@85.13.134.164
DTSTAMP:20260420T125717Z
DESCRIPTION:
DTSTART;TZID=Europe/Berlin:20111016T150000
DTEND;TZID=Europe/Berlin:20111016T164500
LOCATION:
SUMMARY:B-Klasse 1 11/12: Hohlacher SV II - TSV Obernzenn II
END:VEVENT
BEGIN:VEVENT
UID:20260420T145717CEST-4205CjN6Gf@85.13.134.164
DTSTAMP:20260420T125717Z
DESCRIPTION:
DTSTART;TZID=Europe/Berlin:20111127T150000
DTEND;TZID=Europe/Berlin:20111127T164500
LOCATION:
SUMMARY:B-Klasse 1 11/12: TSV Obernzenn II - TSV Langenfeld II
END:VEVENT
BEGIN:VEVENT
UID:20260420T145717CEST-4207f4VVmx@85.13.134.164
DTSTAMP:20260420T125717Z
DESCRIPTION:
DTSTART;TZID=Europe/Berlin:20111030T140000
DTEND;TZID=Europe/Berlin:20111030T154500
LOCATION:
SUMMARY:B-Klasse 1 11/12: TSV Obernzenn II - SC Adelshofen II
END:VEVENT
BEGIN:VEVENT
UID:20260420T145717CEST-4209XsUAv1@85.13.134.164
DTSTAMP:20260420T125717Z
DESCRIPTION:
DTSTART;TZID=Europe/Berlin:20111106T153000
DTEND;TZID=Europe/Berlin:20111106T171500
LOCATION:
SUMMARY:B-Klasse 1 11/12: SpVgg Thierberg - TSV Obernzenn II
END:VEVENT
BEGIN:VEVENT
UID:20260420T145717CEST-4212av9fwe@85.13.134.164
DTSTAMP:20260420T125717Z
DESCRIPTION:
DTSTART;TZID=Europe/Berlin:20111113T133000
DTEND;TZID=Europe/Berlin:20111113T151500
LOCATION:
SUMMARY:B-Klasse 1 11/12: TSV Obernzenn II - FSV Lenkersheim II
END:VEVENT
BEGIN:VEVENT
UID:20260420T145717CEST-4214VbJ0Gj@85.13.134.164
DTSTAMP:20260420T125717Z
DESCRIPTION:
DTSTART;TZID=Europe/Berlin:20111120T133000
DTEND;TZID=Europe/Berlin:20111120T151500
LOCATION:
SUMMARY:B-Klasse 1 11/12: SV Ergersheim II - TSV Obernzenn II
END:VEVENT
BEGIN:VEVENT
UID:20260420T145717CEST-4215B5Mipb@85.13.134.164
DTSTAMP:20260420T125717Z
DESCRIPTION:
DTSTART;TZID=Europe/Berlin:20120325T150000
DTEND;TZID=Europe/Berlin:20120325T164500
LOCATION:
SUMMARY:B-Klasse 1 11/12: TSV Obernzenn II - SVV Weigenheim III
END:VEVENT
BEGIN:VEVENT
UID:20260420T145717CEST-4218mF5OT8@85.13.134.164
DTSTAMP:20260420T125717Z
DESCRIPTION:
DTSTART;TZID=Europe/Berlin:20120401T150000
DTEND;TZID=Europe/Berlin:20120401T164500
LOCATION:
SUMMARY:B-Klasse 1 11/12: SC Trautskirchen II - TSV Obernzenn II
END:VEVENT
BEGIN:VEVENT
UID:20260420T145717CEST-4220AoTu98@85.13.134.164
DTSTAMP:20260420T125717Z
DESCRIPTION:
DTSTART;TZID=Europe/Berlin:20120415T150000
DTEND;TZID=Europe/Berlin:20120415T164500
LOCATION:
SUMMARY:B-Klasse 1 11/12: SpVgg Gallmersgarten II - TSV Obernzenn II
END:VEVENT
BEGIN:VEVENT
UID:20260420T145717CEST-4222UlC8pH@85.13.134.164
DTSTAMP:20260420T125717Z
DESCRIPTION:
DTSTART;TZID=Europe/Berlin:20120429T150000
DTEND;TZID=Europe/Berlin:20120429T164500
LOCATION:
SUMMARY:B-Klasse 1 11/12: TSV Burgbernheim II - TSV Obernzenn II
END:VEVENT
BEGIN:VEVENT
UID:20260420T145717CEST-4224VU2PTM@85.13.134.164
DTSTAMP:20260420T125717Z
DESCRIPTION:
DTSTART;TZID=Europe/Berlin:20120506T150000
DTEND;TZID=Europe/Berlin:20120506T164500
LOCATION:
SUMMARY:B-Klasse 1 11/12: TSV Obernzenn II - FSV Ipsheim II
END:VEVENT
BEGIN:VEVENT
UID:20260420T145717CEST-4226VO0WLi@85.13.134.164
DTSTAMP:20260420T125717Z
DESCRIPTION:
DTSTART;TZID=Europe/Berlin:20120513T160000
DTEND;TZID=Europe/Berlin:20120513T174500
LOCATION:
SUMMARY:B-Klasse 1 11/12: RSV Sugenheim II - TSV Obernzenn II
END:VEVENT
BEGIN:VEVENT
UID:20260420T145717CEST-4228KGvhaa@85.13.134.164
DTSTAMP:20260420T125717Z
DESCRIPTION:
DTSTART;TZID=Europe/Berlin:20120520T150000
DTEND;TZID=Europe/Berlin:20120520T164500
LOCATION:
SUMMARY:B-Klasse 1 11/12: TSV Obernzenn II - Hohlacher SV II
END:VEVENT
BEGIN:VEVENT
UID:20260420T145717CEST-4230MUSgvT@85.13.134.164
DTSTAMP:20260420T125717Z
DESCRIPTION:
DTSTART;TZID=Europe/Berlin:20120603T160000
DTEND;TZID=Europe/Berlin:20120603T174500
LOCATION:
SUMMARY:B-Klasse 1 11/12: TSV Langenfeld II - TSV Obernzenn II
END:VEVENT
BEGIN:VEVENT
UID:20260420T145717CEST-4232uGbBXz@85.13.134.164
DTSTAMP:20260420T125717Z
DESCRIPTION:
DTSTART;TZID=Europe/Berlin:20120610T150000
DTEND;TZID=Europe/Berlin:20120610T164500
LOCATION:
SUMMARY:B-Klasse 1 11/12: SC Adelshofen II - TSV Obernzenn II
END:VEVENT
BEGIN:VEVENT
UID:20260420T145717CEST-4234cD0A22@85.13.134.164
DTSTAMP:20260420T125717Z
DESCRIPTION:
DTSTART;TZID=Europe/Berlin:20120617T150000
DTEND;TZID=Europe/Berlin:20120617T164500
LOCATION:
SUMMARY:B-Klasse 1 11/12: TSV Obernzenn II - SpVgg Thierberg
END:VEVENT
END:VCALENDAR
