BEGIN:VCALENDAR
VERSION:2.0
PRODID:-//85.13.134.164//NONSGML kigkonsult.se iCalcreator 2.18//
X-WR-TIMEZONE:Europe/Berlin
BEGIN:VTIMEZONE
TZID:Europe/Berlin
X-LIC-LOCATION:Europe/Berlin
BEGIN:STANDARD
DTSTART:20181028T030000
TZOFFSETFROM:+0200
TZOFFSETTO:+0100
RDATE:20191027T030000
TZNAME:CET
END:STANDARD
BEGIN:DAYLIGHT
DTSTART:20190331T020000
TZOFFSETFROM:+0100
TZOFFSETTO:+0200
RDATE:20200329T020000
TZNAME:CEST
END:DAYLIGHT
END:VTIMEZONE
BEGIN:VEVENT
UID:20260422T192346CEST-6492CH4ENa@85.13.134.164
DTSTAMP:20260422T172346Z
DESCRIPTION:
DTSTART;TZID=Europe/Berlin:20180819T150000
DTEND;TZID=Europe/Berlin:20180819T164500
LOCATION:
SUMMARY:AK-Gr 4 N/F 18-19: SG Wind 2 - Fr.Schillingsfürst 2
END:VEVENT
BEGIN:VEVENT
UID:20260422T192346CEST-6494uUg4vm@85.13.134.164
DTSTAMP:20260422T172346Z
DESCRIPTION:
DTSTART;TZID=Europe/Berlin:20180825T130000
DTEND;TZID=Europe/Berlin:20180825T144500
LOCATION:
SUMMARY:AK-Gr 4 N/F 18-19: Fr.Schillingsfürst 2 - TSV Rothenburg II
END:VEVENT
BEGIN:VEVENT
UID:20260422T192346CEST-6495PwahAm@85.13.134.164
DTSTAMP:20260422T172346Z
DESCRIPTION:Hauptplatz TSV 1974 GESLAU
DTSTART;TZID=Europe/Berlin:20180902T150000
DTEND;TZID=Europe/Berlin:20180902T164500
LOCATION:An der Staatsstr. 2250\, 91608 Geslau
SUMMARY:AK-Gr 4 N/F 18-19: TSG Geslau - Buch a.W II - Fr.Schillingsfürst 2
END:VEVENT
BEGIN:VEVENT
UID:20260422T192346CEST-64981wvTUX@85.13.134.164
DTSTAMP:20260422T172346Z
DESCRIPTION:
DTSTART;TZID=Europe/Berlin:20180908T140000
DTEND;TZID=Europe/Berlin:20180908T154500
LOCATION:
SUMMARY:AK-Gr 4 N/F 18-19: Fr.Schillingsfürst 2 - SV Ergersheim
END:VEVENT
BEGIN:VEVENT
UID:20260422T192346CEST-6500RUslsH@85.13.134.164
DTSTAMP:20260422T172346Z
DESCRIPTION:
DTSTART;TZID=Europe/Berlin:20180916T130000
DTEND;TZID=Europe/Berlin:20180916T144500
LOCATION:
SUMMARY:AK-Gr 4 N/F 18-19: SVV Weigenheim II - Fr.Schillingsfürst 2
END:VEVENT
BEGIN:VEVENT
UID:20260422T192346CEST-6501iGRJkd@85.13.134.164
DTSTAMP:20260422T172346Z
DESCRIPTION:
DTSTART;TZID=Europe/Berlin:20180923T130000
DTEND;TZID=Europe/Berlin:20180923T144500
LOCATION:
SUMMARY:AK-Gr 4 N/F 18-19: Fr.Schillingsfürst 2 -  1.FV Uffenheim II
END:VEVENT
BEGIN:VEVENT
UID:20260422T192346CEST-6503eWWmfU@85.13.134.164
DTSTAMP:20260422T172346Z
DESCRIPTION:
DTSTART;TZID=Europe/Berlin:20181007T130000
DTEND;TZID=Europe/Berlin:20181007T144500
LOCATION:
SUMMARY:AK-Gr 4 N/F 18-19: Fr.Schillingsfürst 2 - SC Adelshofen
END:VEVENT
BEGIN:VEVENT
UID:20260422T192346CEST-6505jFvrBt@85.13.134.164
DTSTAMP:20260422T172346Z
DESCRIPTION:
DTSTART;TZID=Europe/Berlin:20181014T150000
DTEND;TZID=Europe/Berlin:20181014T164500
LOCATION:
SUMMARY:AK-Gr 4 N/F 18-19: Hohlacher SV - Fr.Schillingsfürst 2
END:VEVENT
BEGIN:VEVENT
UID:20260422T192346CEST-6507b1dWRe@85.13.134.164
DTSTAMP:20260422T172346Z
DESCRIPTION:
DTSTART;TZID=Europe/Berlin:20181021T130000
DTEND;TZID=Europe/Berlin:20181021T144500
LOCATION:
SUMMARY:AK-Gr 4 N/F 18-19: Fr.Schillingsfürst 2 - FC Oberndorf
END:VEVENT
BEGIN:VEVENT
UID:20260422T192346CEST-6509L5bVro@85.13.134.164
DTSTAMP:20260422T172346Z
DESCRIPTION:Pappelstadion
DTSTART;TZID=Europe/Berlin:20181028T150000
DTEND;TZID=Europe/Berlin:20181028T164500
LOCATION:\,  Lenkersheim
SUMMARY:AK-Gr 4 N/F 18-19: SG Lenkersheim / Bad Windsheim - Fr.Schillingsfü
 rst 2
END:VEVENT
BEGIN:VEVENT
UID:20260422T192346CEST-6511gzb8Zm@85.13.134.164
DTSTAMP:20260422T172346Z
DESCRIPTION:
DTSTART;TZID=Europe/Berlin:20181104T123000
DTEND;TZID=Europe/Berlin:20181104T141500
LOCATION:
SUMMARY:AK-Gr 4 N/F 18-19: SG Obernzenn /​ Unteraltenbernheim II - Fr.Schil
 lingsfürst 2
END:VEVENT
BEGIN:VEVENT
UID:20260422T192346CEST-6513JLRROX@85.13.134.164
DTSTAMP:20260422T172346Z
DESCRIPTION:
DTSTART;TZID=Europe/Berlin:20181111T123000
DTEND;TZID=Europe/Berlin:20181111T141500
LOCATION:
SUMMARY:AK-Gr 4 N/F 18-19: Fr.Schillingsfürst 2 - SG Colmberg/​Oberdachstet
 ten I 
END:VEVENT
BEGIN:VEVENT
UID:20260422T192346CEST-651537FFH6@85.13.134.164
DTSTAMP:20260422T172346Z
DESCRIPTION:
DTSTART;TZID=Europe/Berlin:20181118T123000
DTEND;TZID=Europe/Berlin:20181118T141500
LOCATION:
SUMMARY:AK-Gr 4 N/F 18-19: Fr.Schillingsfürst 2 - SG Wind 2
END:VEVENT
BEGIN:VEVENT
UID:20260422T192346CEST-6517Uoilzx@85.13.134.164
DTSTAMP:20260422T172346Z
DESCRIPTION:
DTSTART;TZID=Europe/Berlin:20190316T173000
DTEND;TZID=Europe/Berlin:20190316T191500
LOCATION:
SUMMARY:AK-Gr 4 N/F 18-19: TSV Rothenburg II - Fr.Schillingsfürst 2
END:VEVENT
BEGIN:VEVENT
UID:20260422T192346CEST-65191imfvs@85.13.134.164
DTSTAMP:20260422T172346Z
DESCRIPTION:
DTSTART;TZID=Europe/Berlin:20190324T130000
DTEND;TZID=Europe/Berlin:20190324T144500
LOCATION:
SUMMARY:AK-Gr 4 N/F 18-19: Fr.Schillingsfürst 2 - TSG Geslau - Buch a.W II
END:VEVENT
BEGIN:VEVENT
UID:20260422T192346CEST-6521R9T3D6@85.13.134.164
DTSTAMP:20260422T172346Z
DESCRIPTION:
DTSTART;TZID=Europe/Berlin:20190331T150000
DTEND;TZID=Europe/Berlin:20190331T164500
LOCATION:
SUMMARY:AK-Gr 4 N/F 18-19: SV Ergersheim - Fr.Schillingsfürst 2
END:VEVENT
BEGIN:VEVENT
UID:20260422T192346CEST-6522EkvToh@85.13.134.164
DTSTAMP:20260422T172346Z
DESCRIPTION:
DTSTART;TZID=Europe/Berlin:20190406T130000
DTEND;TZID=Europe/Berlin:20190406T144500
LOCATION:
SUMMARY:AK-Gr 4 N/F 18-19: Fr.Schillingsfürst 2 - SVV Weigenheim II
END:VEVENT
BEGIN:VEVENT
UID:20260422T192346CEST-6524VSbWe3@85.13.134.164
DTSTAMP:20260422T172346Z
DESCRIPTION:
DTSTART;TZID=Europe/Berlin:20190423T183000
DTEND;TZID=Europe/Berlin:20190423T201500
LOCATION:
SUMMARY:AK-Gr 4 N/F 18-19:  1.FV Uffenheim II - Fr.Schillingsfürst 2
END:VEVENT
BEGIN:VEVENT
UID:20260422T192346CEST-65268afxSh@85.13.134.164
DTSTAMP:20260422T172346Z
DESCRIPTION:
DTSTART;TZID=Europe/Berlin:20190505T150000
DTEND;TZID=Europe/Berlin:20190505T164500
LOCATION:
SUMMARY:AK-Gr 4 N/F 18-19: SC Adelshofen - Fr.Schillingsfürst 2
END:VEVENT
BEGIN:VEVENT
UID:20260422T192346CEST-6528Op6wdX@85.13.134.164
DTSTAMP:20260422T172346Z
DESCRIPTION:
DTSTART;TZID=Europe/Berlin:20190512T130000
DTEND;TZID=Europe/Berlin:20190512T144500
LOCATION:
SUMMARY:AK-Gr 4 N/F 18-19: Fr.Schillingsfürst 2 - Hohlacher SV
END:VEVENT
BEGIN:VEVENT
UID:20260422T192346CEST-6530kUb221@85.13.134.164
DTSTAMP:20260422T172346Z
DESCRIPTION:
DTSTART;TZID=Europe/Berlin:20190519T150000
DTEND;TZID=Europe/Berlin:20190519T164500
LOCATION:
SUMMARY:AK-Gr 4 N/F 18-19: FC Oberndorf - Fr.Schillingsfürst 2
END:VEVENT
BEGIN:VEVENT
UID:20260422T192346CEST-6532HuVXcg@85.13.134.164
DTSTAMP:20260422T172346Z
DESCRIPTION:
DTSTART;TZID=Europe/Berlin:20190526T130000
DTEND;TZID=Europe/Berlin:20190526T144500
LOCATION:
SUMMARY:AK-Gr 4 N/F 18-19: Fr.Schillingsfürst 2 - SG Lenkersheim / Bad Wind
 sheim
END:VEVENT
BEGIN:VEVENT
UID:20260422T192346CEST-6534V1o9vo@85.13.134.164
DTSTAMP:20260422T172346Z
DESCRIPTION:
DTSTART;TZID=Europe/Berlin:20190602T130000
DTEND;TZID=Europe/Berlin:20190602T144500
LOCATION:
SUMMARY:AK-Gr 4 N/F 18-19: Fr.Schillingsfürst 2 - SG Obernzenn /​ Unteralte
 nbernheim II
END:VEVENT
BEGIN:VEVENT
UID:20260422T192346CEST-6536cWpBwx@85.13.134.164
DTSTAMP:20260422T172346Z
DESCRIPTION:
DTSTART;TZID=Europe/Berlin:20190608T160000
DTEND;TZID=Europe/Berlin:20190608T174500
LOCATION:
SUMMARY:AK-Gr 4 N/F 18-19: SG Colmberg/​Oberdachstetten I  - Fr.Schillingsf
 ürst 2
END:VEVENT
END:VCALENDAR
