BEGIN:VCALENDAR
VERSION:2.0
PRODID:-//85.13.134.164//NONSGML kigkonsult.se iCalcreator 2.18//
X-WR-TIMEZONE:Europe/Berlin
BEGIN:VTIMEZONE
TZID:Europe/Berlin
X-LIC-LOCATION:Europe/Berlin
BEGIN:STANDARD
DTSTART:20171029T030000
TZOFFSETFROM:+0200
TZOFFSETTO:+0100
RDATE:20181028T030000
TZNAME:CET
END:STANDARD
BEGIN:DAYLIGHT
DTSTART:20180325T020000
TZOFFSETFROM:+0100
TZOFFSETTO:+0200
RDATE:20190331T020000
TZNAME:CEST
END:DAYLIGHT
END:VTIMEZONE
BEGIN:VEVENT
UID:20260421T041424CEST-4777fUiUE0@85.13.134.164
DTSTAMP:20260421T021424Z
DESCRIPTION:
DTSTART;TZID=Europe/Berlin:20170820T150000
DTEND;TZID=Europe/Berlin:20170820T164500
LOCATION:
SUMMARY:KK-Gr 2 N/F 17-18: TSV Langenfeld - VfB Franken Schillingsfürst
END:VEVENT
BEGIN:VEVENT
UID:20260421T041424CEST-4779ZgbUhj@85.13.134.164
DTSTAMP:20260421T021424Z
DESCRIPTION:
DTSTART;TZID=Europe/Berlin:20170827T150000
DTEND;TZID=Europe/Berlin:20170827T164500
LOCATION:
SUMMARY:KK-Gr 2 N/F 17-18: VfB Franken Schillingsfürst - SV Schalkhausen
END:VEVENT
BEGIN:VEVENT
UID:20260421T041424CEST-4781uToSsv@85.13.134.164
DTSTAMP:20260421T021424Z
DESCRIPTION:
DTSTART;TZID=Europe/Berlin:20170903T150000
DTEND;TZID=Europe/Berlin:20170903T164500
LOCATION:
SUMMARY:KK-Gr 2 N/F 17-18: SG Gallmersgarten/​Gebsattel  - VfB Franken Schi
 llingsfürst
END:VEVENT
BEGIN:VEVENT
UID:20260421T041424CEST-4783hdgr7H@85.13.134.164
DTSTAMP:20260421T021424Z
DESCRIPTION:
DTSTART;TZID=Europe/Berlin:20170909T160000
DTEND;TZID=Europe/Berlin:20170909T174500
LOCATION:
SUMMARY:KK-Gr 2 N/F 17-18: VfB Franken Schillingsfürst - Hohlacher SV
END:VEVENT
BEGIN:VEVENT
UID:20260421T041424CEST-4785l9EVpn@85.13.134.164
DTSTAMP:20260421T021424Z
DESCRIPTION:
DTSTART;TZID=Europe/Berlin:20180413T180000
DTEND;TZID=Europe/Berlin:20180413T194500
LOCATION:
SUMMARY:KK-Gr 2 N/F 17-18: TV 1862 Leutershausen - VfB Franken Schillingsfü
 rst
END:VEVENT
BEGIN:VEVENT
UID:20260421T041424CEST-4787uxuXH6@85.13.134.164
DTSTAMP:20260421T021424Z
DESCRIPTION:
DTSTART;TZID=Europe/Berlin:20170924T150000
DTEND;TZID=Europe/Berlin:20170924T164500
LOCATION:
SUMMARY:KK-Gr 2 N/F 17-18: VfB Franken Schillingsfürst - SG Obernzenn /​ Un
 teraltenbernheim
END:VEVENT
BEGIN:VEVENT
UID:20260421T041424CEST-4789Xj6Vlc@85.13.134.164
DTSTAMP:20260421T021424Z
DESCRIPTION:
DTSTART;TZID=Europe/Berlin:20171001T150000
DTEND;TZID=Europe/Berlin:20171001T164500
LOCATION:
SUMMARY:KK-Gr 2 N/F 17-18: SC Trautskirchen - VfB Franken Schillingsfürst
END:VEVENT
BEGIN:VEVENT
UID:20260421T041424CEST-4791dVa6HD@85.13.134.164
DTSTAMP:20260421T021424Z
DESCRIPTION:
DTSTART;TZID=Europe/Berlin:20171003T150000
DTEND;TZID=Europe/Berlin:20171003T164500
LOCATION:
SUMMARY:KK-Gr 2 N/F 17-18: VfB Franken Schillingsfürst - SG Lenkersheim / B
 ad Windsheim
END:VEVENT
BEGIN:VEVENT
UID:20260421T041424CEST-4792U5hrcV@85.13.134.164
DTSTAMP:20260421T021424Z
DESCRIPTION:
DTSTART;TZID=Europe/Berlin:20171008T150000
DTEND;TZID=Europe/Berlin:20171008T164500
LOCATION:
SUMMARY:KK-Gr 2 N/F 17-18: SVV Weigenheim - VfB Franken Schillingsfürst
END:VEVENT
BEGIN:VEVENT
UID:20260421T041424CEST-4794CGgPUL@85.13.134.164
DTSTAMP:20260421T021424Z
DESCRIPTION:
DTSTART;TZID=Europe/Berlin:20171014T153000
DTEND;TZID=Europe/Berlin:20171014T171500
LOCATION:
SUMMARY:KK-Gr 2 N/F 17-18: VfB Franken Schillingsfürst - TSV Flachslanden 
END:VEVENT
BEGIN:VEVENT
UID:20260421T041424CEST-47967UuxXP@85.13.134.164
DTSTAMP:20260421T021424Z
DESCRIPTION:
DTSTART;TZID=Europe/Berlin:20171022T150000
DTEND;TZID=Europe/Berlin:20171022T164500
LOCATION:
SUMMARY:KK-Gr 2 N/F 17-18: TSV Lehrberg - VfB Franken Schillingsfürst
END:VEVENT
BEGIN:VEVENT
UID:20260421T041424CEST-4798WPh76R@85.13.134.164
DTSTAMP:20260421T021424Z
DESCRIPTION:
DTSTART;TZID=Europe/Berlin:20180427T183000
DTEND;TZID=Europe/Berlin:20180427T201500
LOCATION:
SUMMARY:KK-Gr 2 N/F 17-18: TSV 2000 Rothenburg - VfB Franken Schillingsfürs
 t
END:VEVENT
BEGIN:VEVENT
UID:20260421T041424CEST-4800NNJafM@85.13.134.164
DTSTAMP:20260421T021424Z
DESCRIPTION:
DTSTART;TZID=Europe/Berlin:20171105T143000
DTEND;TZID=Europe/Berlin:20171105T161500
LOCATION:
SUMMARY:KK-Gr 2 N/F 17-18: VfB Franken Schillingsfürst - TSV Marktbergel
END:VEVENT
BEGIN:VEVENT
UID:20260421T041424CEST-4802VuuSAm@85.13.134.164
DTSTAMP:20260421T021424Z
DESCRIPTION:
DTSTART;TZID=Europe/Berlin:20180331T160000
DTEND;TZID=Europe/Berlin:20180331T174500
LOCATION:
SUMMARY:KK-Gr 2 N/F 17-18: VfB Franken Schillingsfürst - TSV Langenfeld
END:VEVENT
BEGIN:VEVENT
UID:20260421T041424CEST-4803MUBjsa@85.13.134.164
DTSTAMP:20260421T021424Z
DESCRIPTION:
DTSTART;TZID=Europe/Berlin:20171119T143000
DTEND;TZID=Europe/Berlin:20171119T161500
LOCATION:
SUMMARY:KK-Gr 2 N/F 17-18: SV Schalkhausen - VfB Franken Schillingsfürst
END:VEVENT
BEGIN:VEVENT
UID:20260421T041424CEST-4805aasvok@85.13.134.164
DTSTAMP:20260421T021424Z
DESCRIPTION:
DTSTART;TZID=Europe/Berlin:20180518T183000
DTEND;TZID=Europe/Berlin:20180518T201500
LOCATION:
SUMMARY:KK-Gr 2 N/F 17-18: VfB Franken Schillingsfürst - SG Gallmersgarten/
 ​Gebsattel 
END:VEVENT
BEGIN:VEVENT
UID:20260421T041424CEST-4807flRObo@85.13.134.164
DTSTAMP:20260421T021424Z
DESCRIPTION:
DTSTART;TZID=Europe/Berlin:20180529T184500
DTEND;TZID=Europe/Berlin:20180529T203000
LOCATION:
SUMMARY:KK-Gr 2 N/F 17-18: Hohlacher SV - VfB Franken Schillingsfürst
END:VEVENT
BEGIN:VEVENT
UID:20260421T041424CEST-480907MJ4P@85.13.134.164
DTSTAMP:20260421T021424Z
DESCRIPTION:
DTSTART;TZID=Europe/Berlin:20180408T150000
DTEND;TZID=Europe/Berlin:20180408T164500
LOCATION:
SUMMARY:KK-Gr 2 N/F 17-18: VfB Franken Schillingsfürst - TV 1862 Leutershau
 sen
END:VEVENT
BEGIN:VEVENT
UID:20260421T041424CEST-4811vju3tX@85.13.134.164
DTSTAMP:20260421T021424Z
DESCRIPTION:
DTSTART;TZID=Europe/Berlin:20180415T150000
DTEND;TZID=Europe/Berlin:20180415T164500
LOCATION:
SUMMARY:KK-Gr 2 N/F 17-18: SG Obernzenn /​ Unteraltenbernheim - VfB Franken
  Schillingsfürst
END:VEVENT
BEGIN:VEVENT
UID:20260421T041424CEST-481355pv8n@85.13.134.164
DTSTAMP:20260421T021424Z
DESCRIPTION:
DTSTART;TZID=Europe/Berlin:20180422T150000
DTEND;TZID=Europe/Berlin:20180422T164500
LOCATION:
SUMMARY:KK-Gr 2 N/F 17-18: VfB Franken Schillingsfürst - SC Trautskirchen
END:VEVENT
BEGIN:VEVENT
UID:20260421T041424CEST-4814thUVzH@85.13.134.164
DTSTAMP:20260421T021424Z
DESCRIPTION:Pappelstadion
DTSTART;TZID=Europe/Berlin:20180429T150000
DTEND;TZID=Europe/Berlin:20180429T164500
LOCATION:\,  Lenkersheim
SUMMARY:KK-Gr 2 N/F 17-18: SG Lenkersheim / Bad Windsheim - VfB Franken Sch
 illingsfürst
END:VEVENT
BEGIN:VEVENT
UID:20260421T041424CEST-4816lgPwA0@85.13.134.164
DTSTAMP:20260421T021424Z
DESCRIPTION:
DTSTART;TZID=Europe/Berlin:20180506T150000
DTEND;TZID=Europe/Berlin:20180506T164500
LOCATION:
SUMMARY:KK-Gr 2 N/F 17-18: VfB Franken Schillingsfürst - SVV Weigenheim
END:VEVENT
BEGIN:VEVENT
UID:20260421T041424CEST-4818GKuAH2@85.13.134.164
DTSTAMP:20260421T021424Z
DESCRIPTION:
DTSTART;TZID=Europe/Berlin:20180509T183000
DTEND;TZID=Europe/Berlin:20180509T201500
LOCATION:
SUMMARY:KK-Gr 2 N/F 17-18: TSV Flachslanden  - VfB Franken Schillingsfürst
END:VEVENT
BEGIN:VEVENT
UID:20260421T041424CEST-48205WWV7V@85.13.134.164
DTSTAMP:20260421T021424Z
DESCRIPTION:
DTSTART;TZID=Europe/Berlin:20180527T150000
DTEND;TZID=Europe/Berlin:20180527T164500
LOCATION:
SUMMARY:KK-Gr 2 N/F 17-18: VfB Franken Schillingsfürst - TSV Lehrberg
END:VEVENT
BEGIN:VEVENT
UID:20260421T041424CEST-4822WbmC2v@85.13.134.164
DTSTAMP:20260421T021424Z
DESCRIPTION:
DTSTART;TZID=Europe/Berlin:20180603T150000
DTEND;TZID=Europe/Berlin:20180603T164500
LOCATION:
SUMMARY:KK-Gr 2 N/F 17-18: VfB Franken Schillingsfürst - TSV 2000 Rothenbur
 g
END:VEVENT
BEGIN:VEVENT
UID:20260421T041424CEST-4824ch4lbe@85.13.134.164
DTSTAMP:20260421T021424Z
DESCRIPTION:
DTSTART;TZID=Europe/Berlin:20180609T160000
DTEND;TZID=Europe/Berlin:20180609T174500
LOCATION:
SUMMARY:KK-Gr 2 N/F 17-18: TSV Marktbergel - VfB Franken Schillingsfürst
END:VEVENT
END:VCALENDAR
